BEGIN:VCALENDAR
VERSION:2.0
PRODID:-//wp-events-plugin.com//7.2.3.1//EN
TZID:Europe/Amsterdam
X-WR-TIMEZONE:Europe/Amsterdam
BEGIN:VEVENT
UID:35459@agenda-zaanstreek.nl
DTSTART;TZID=Europe/Amsterdam:20250425T203000
DTEND;TZID=Europe/Amsterdam:20250425T203000
DTSTAMP:20241024T123434Z
URL:https://agenda-zaanstreek.nl/events/klaas-van-der-eerden-blijven-drijv
 en/
SUMMARY:Klaas van der Eerden | Blijven drijven
DESCRIPTION:vrijdag 25 april 20.30 uur\nwww.theateroostzaan.nl/25-april-202
 5-klaas-van-der-eerden\n\n\n\n\n\n\n&nbsp\;\n\n\n\n\n\n\nPrijs: € 21.00 
 inclusief consumptie\nKoop tickets hier.\n\n\nNa tien jaar is Klaas van de
 r Eerden terug in het theater\, met een comedyshow vol sketches\, typetjes
  en muziek. De afgelopen jaren was hij vooral op tv te zien\, onder meer i
 n ‘Foute Vrienden’ en ‘CupCakeCup’. Op de radio was Klaas te horen
  bij de ochtendshow van Radio 538. Iedere morgen om 4.15 uur op en dan vro
 lijk achter de microfoon kruipen\, Klaas kan dat. Maar waar komt toch die 
 onbedaarlijke gedrevenheid vandaan om iedereen voortdurend te vermaken en 
 aan het lachen te krijgen? En stond dit levenslot\, door een noodlottig on
 geval in zijn familie\, eigenlijk niet al vanaf zijn geboorte vast? In zij
 n nieuwe theaterprogramma probeert Klaas antwoord te geven op deze vraag. 
 Eén ding staat als een paal boven water: hij zal altijd blijven drijven. 
 Dat was al zo toen hij 25 jaar geleden op indrukwekkende wijze het Amsterd
 ams Kleinkunst Festival op z’n naam schreef. En dat is nog steeds zo. Ko
 m kijken en laat je lachend overtuigen.\n\n
CATEGORIES:Cabaret
LOCATION:De KunstGreep\, Kerkbuurt 4\, Oostzaan\, 1511 BD\, Nederland
X-APPLE-STRUCTURED-LOCATION;VALUE=URI;X-ADDRESS=Kerkbuurt 4\, Oostzaan\, 15
 11 BD\, Nederland;X-APPLE-RADIUS=100;X-TITLE=De KunstGreep:geo:0,0
END:VEVENT
BEGIN:VTIMEZONE
TZID:Europe/Amsterdam
X-LIC-LOCATION:Europe/Amsterdam
BEGIN:DAYLIGHT
DTSTART:20250330T030000
TZOFFSETFROM:+0100
TZOFFSETTO:+0200
TZNAME:CEST
END:DAYLIGHT
END:VTIMEZONE
END:VCALENDAR