BEGIN:VCALENDAR
VERSION:2.0
PRODID:-//wp-events-plugin.com//7.2.3.1//EN
TZID:Europe/Amsterdam
X-WR-TIMEZONE:Europe/Amsterdam
BEGIN:VEVENT
UID:39141@agenda-zaanstreek.nl
DTSTART;TZID=Europe/Amsterdam:20250627T200000
DTEND;TZID=Europe/Amsterdam:20250627T200000
DTSTAMP:20250612T094903Z
URL:https://agenda-zaanstreek.nl/events/kirsten-van-teijn-jaloezie-is-een-
 bitch-2/
SUMMARY:Kirsten van Teijn - Jaloezie is een bitch
DESCRIPTION:\n\n\nKirsten voelt zich een rijke bitch met niet één\, maar 
 twee relaties. Polyamorie onder de knie! Maar als haar vriendin ineens ver
 liefd wordt op een ander\, wordt haar ‘open mind’ keihard op de proef 
 gesteld. In Jaloezie is een bitch&nbsp\;gaat Kirsten het gevecht aan met j
 uicy jealousy\; een verboden emotie doordrenkt van liefde\, maar mét gift
 anden.\n\n\n\n\n\n\nIn 2022 won Kirsten de VSCD-cabaretprijs Neerlands Hoo
 p voor&nbsp\;(S)Experiment\, over de (on)mogelijkheid om tegelijkertijd ee
 n relatie met een man én een vrouw aan te gaan. Deze keer neemt ze het pu
 bliek met hartverscheurende humor mee in een opzwepende\, kleurrijke en mu
 zikale voorstelling over onconventioneel liefhebben en hoe dat vorm te gev
 en.\n\n\nLees meer\n\n\n\n\nPrijzen\n\n\n\n\n\nRecensies\n\n\n\n\nExtra in
 formatie:\n\n\n\n\n\nvr27 jun 202520.00Albert HeijnzaalBestel\n\n
CATEGORIES:Cabaret
LOCATION:Zaantheater\, Nicolaasstraat 3\, Zaandam\, 1506 BB\, Nederland
X-APPLE-STRUCTURED-LOCATION;VALUE=URI;X-ADDRESS=Nicolaasstraat 3\, Zaandam\
 , 1506 BB\, Nederland;X-APPLE-RADIUS=100;X-TITLE=Zaantheater:geo:0,0
END:VEVENT
BEGIN:VTIMEZONE
TZID:Europe/Amsterdam
X-LIC-LOCATION:Europe/Amsterdam
BEGIN:DAYLIGHT
DTSTART:20250330T030000
TZOFFSETFROM:+0100
TZOFFSETTO:+0200
TZNAME:CEST
END:DAYLIGHT
END:VTIMEZONE
END:VCALENDAR