BEGIN:VCALENDAR
VERSION:2.0
PRODID:-//wp-events-plugin.com//7.2.3.1//EN
TZID:Europe/Amsterdam
X-WR-TIMEZONE:Europe/Amsterdam
BEGIN:VEVENT
UID:40992@agenda-zaanstreek.nl
DTSTART;TZID=Europe/Amsterdam:20260118T140000
DTEND;TZID=Europe/Amsterdam:20260118T140000
DTSTAMP:20260112T201923Z
URL:https://agenda-zaanstreek.nl/events/kindertheater-in-de-pelikaan/
SUMMARY:Kindertheater in de Pelikaan
DESCRIPTION:\nKindertheater in de Pelikaan\n18 januari aanvang 14:00 uur\n\
 n\nElke avond rond de klok van acht uur\, kruipt er onder Fiep’s bed een
  heel gek figuur. Het gebeurt altijd bij volle maan\, meestal net voor het
  slapengaan.\n\n\nDe billenbijter\, de kakbouter\, het kusjesbeest en het 
 poepiemonster komen tevoorschijn. Gelukkig is Fiep helemaal niet bang voor
  monsters. Ze heeft er alleen nog nooit een gezien. Maar monsters onder je
  bed bestaan niet. Toch?\n\n\nPas op voor de billenbijter! is een gruwelij
 k grappige griezelvoorstelling gebaseerd op het gelijknamige boek van Luca
 s van de Meerendonk.\n\n\nToegang: €5\,-. Leden van de Speel-o-theek &am
 p\; Zaanspas-houders betalen slechts €2\,50\n
CATEGORIES:Jeugd
LOCATION:Buurtcentrum De Pelikaan\, Kervelstraat 185-A\, Krommenie\, 1562 A
 J\, Nederland
X-APPLE-STRUCTURED-LOCATION;VALUE=URI;X-ADDRESS=Kervelstraat 185-A\, Kromme
 nie\, 1562 AJ\, Nederland;X-APPLE-RADIUS=100;X-TITLE=Buurtcentrum De Pelik
 aan:geo:0,0
END:VEVENT
BEGIN:VTIMEZONE
TZID:Europe/Amsterdam
X-LIC-LOCATION:Europe/Amsterdam
BEGIN:STANDARD
DTSTART:20251026T020000
TZOFFSETFROM:+0200
TZOFFSETTO:+0100
TZNAME:CET
END:STANDARD
END:VTIMEZONE
END:VCALENDAR