BEGIN:VCALENDAR
VERSION:2.0
PRODID:-//wp-events-plugin.com//7.2.3.1//EN
TZID:Europe/Amsterdam
X-WR-TIMEZONE:Europe/Amsterdam
BEGIN:VEVENT
UID:36773@agenda-zaanstreek.nl
DTSTART;TZID=Europe/Amsterdam:20250215T140000
DTEND;TZID=Europe/Amsterdam:20250215T140000
DTSTAMP:20250114T111813Z
URL:https://agenda-zaanstreek.nl/events/kindertheater-dikkie-dik-en-de-taa
 rt/
SUMMARY:Kindertheater Dikkie Dik en de Taart
DESCRIPTION:\n\n\n\n\n\nAanvang : 14:00\nToegang : €7\,50\nKaarten :&nbsp
 \;Bestellen tickets\nDikkie Dik is jarig. Op tafel staat een grote taart. 
 Dikkie Dik neemt een hapje van de taart. Wat is dat lekker! Hij neemt nog 
 een hap&nbsp\;en nog één… Dikkie Dik hou op\, je wordt nog ziek. Maar 
 Dikkie Dik luistert niet… De taart is op en Dikkie Dik moet zelf op zoek
  naar melk\, eitjes en appels voor een appeltaart.&nbsp\;Maar ondeugend en
  nieuwsgierig als Dikkie Dik is\, gaat er van alles mis. Kan het feest wel
  doorgaan? Is er wel taart voor de vriendjes van Dikkie Dik?\n\nDikkie Dik
  en de taart: een kleine\, sfeervolle muziekvoorstelling voor peuters\, kl
 euters en hun ouders. Het publiek wordt actief betrokken bij de voorstelli
 ng. Er mag volop gezongen en geroepen worden bij nieuwe originele liedjes 
 over Dikkie Dik. Het verhaal wordt opgebouwd rond een levensgroot boek met
  originele Dikkie Dik-tekeningen van Jet Boeke.\n&nbsp\;\n
CATEGORIES:Jeugd,Theater
LOCATION:Zuidervermaning Westzaan\, Zuideinde 233\, Westzaan\, 1551 EG\, Ne
 derland
X-APPLE-STRUCTURED-LOCATION;VALUE=URI;X-ADDRESS=Zuideinde 233\, Westzaan\, 
 1551 EG\, Nederland;X-APPLE-RADIUS=100;X-TITLE=Zuidervermaning Westzaan:ge
 o:0,0
END:VEVENT
BEGIN:VTIMEZONE
TZID:Europe/Amsterdam
X-LIC-LOCATION:Europe/Amsterdam
BEGIN:STANDARD
DTSTART:20241027T020000
TZOFFSETFROM:+0200
TZOFFSETTO:+0100
TZNAME:CET
END:STANDARD
END:VTIMEZONE
END:VCALENDAR