BEGIN:VCALENDAR
VERSION:2.0
PRODID:-//wp-events-plugin.com//7.2.3.1//EN
TZID:Europe/Amsterdam
X-WR-TIMEZONE:Europe/Amsterdam
BEGIN:VEVENT
UID:39793@agenda-zaanstreek.nl
DTSTART;TZID=Europe/Amsterdam:20260213T203000
DTEND;TZID=Europe/Amsterdam:20260213T203000
DTSTAMP:20250730T100347Z
URL:https://agenda-zaanstreek.nl/events/kim-schuddeboom-doe-maar-rustig/
SUMMARY:Kim Schuddeboom - Doe maar rustig
DESCRIPTION:\n\n\nScherp\, ad rem en met een ontwapenende nuchterheid. In h
 aar tweede voorstelling deelt Kim Schuddeboom verhalen\, observaties en pe
 rsoonlijke ervaringen die zowel gewaagd als confronterend zijn\, voor het 
 publiek én voor haarzelf.\n\n\n\n\n\n\nKim weet elke zaal\, groot of klei
 n\, om te toveren tot een intieme kroeg. Een avond als geen ander\, vol sp
 ontane interacties en verrassende ontmoetingen. Stand-up comedy op hoog ni
 veau.\n\nNa haar eerste voorstelling werd Kim genomineerd voor de Neerland
 s Hoop 2023\, een prijs voor meest belovende cabaretière.&nbsp\;\n\n\nLee
 s meer\n\n\n\n\nPrijzen\n\n\n\n\n\nExtra informatie:\n\n\n\n\n\nvr13 feb 2
 02620.30Kleine ZaalBestel\n\n
CATEGORIES:Cabaret
LOCATION:Zaantheater\, Nicolaasstraat 3\, Zaandam\, 1506 BB\, Nederland
X-APPLE-STRUCTURED-LOCATION;VALUE=URI;X-ADDRESS=Nicolaasstraat 3\, Zaandam\
 , 1506 BB\, Nederland;X-APPLE-RADIUS=100;X-TITLE=Zaantheater:geo:0,0
END:VEVENT
BEGIN:VTIMEZONE
TZID:Europe/Amsterdam
X-LIC-LOCATION:Europe/Amsterdam
BEGIN:STANDARD
DTSTART:20251026T020000
TZOFFSETFROM:+0200
TZOFFSETTO:+0100
TZNAME:CET
END:STANDARD
END:VTIMEZONE
END:VCALENDAR