BEGIN:VCALENDAR
VERSION:2.0
PRODID:-//wp-events-plugin.com//7.2.3.1//EN
TZID:Europe/Amsterdam
X-WR-TIMEZONE:Europe/Amsterdam
BEGIN:VEVENT
UID:39464@agenda-zaanstreek.nl
DTSTART;TZID=Europe/Amsterdam:20250711T120000
DTEND;TZID=Europe/Amsterdam:20250711T120000
DTSTAMP:20250703T190414Z
URL:https://agenda-zaanstreek.nl/events/kidsfestival-bij-1456/
SUMMARY:Kidsfestival bij 1456
DESCRIPTION:\nSCHOOL IS OUT! Tijd voor een feestje! Op vrijdag 11 juli vana
 f 12:00 uur barst het Kidsfestival los bij 1456! \n\n\nKom na school gezel
 lig langs voor een middag vol plezier!\n Springkussens\n Spelletjes\n Lekk
 ere hapjes\n En natuurlijk héél veel gezelligheid!\n Toegang is helemaal
  GRATIS!\n\n\nTag je vrienden\, neem je broertjes\, zusjes\, buren en klas
 genoten mee en vier samen het begin van de zomervakantie! \n
CATEGORIES:Jeugd
LOCATION:Dorpshuis Wijdewormer Dorpstheater TOWN 1456\, Wijdewormerplein 3\
 , Wijdewormer\, 1456 CB\, Nederland
X-APPLE-STRUCTURED-LOCATION;VALUE=URI;X-ADDRESS=Wijdewormerplein 3\, Wijdew
 ormer\, 1456 CB\, Nederland;X-APPLE-RADIUS=100;X-TITLE=Dorpshuis Wijdeworm
 er Dorpstheater TOWN 1456:geo:0,0
END:VEVENT
BEGIN:VTIMEZONE
TZID:Europe/Amsterdam
X-LIC-LOCATION:Europe/Amsterdam
BEGIN:DAYLIGHT
DTSTART:20250330T030000
TZOFFSETFROM:+0100
TZOFFSETTO:+0200
TZNAME:CEST
END:DAYLIGHT
END:VTIMEZONE
END:VCALENDAR