BEGIN:VCALENDAR
VERSION:2.0
PRODID:-//wp-events-plugin.com//7.2.3.1//EN
TZID:Europe/Amsterdam
X-WR-TIMEZONE:Europe/Amsterdam
BEGIN:VEVENT
UID:39138@agenda-zaanstreek.nl
DTSTART;TZID=Europe/Amsterdam:20250622T140000
DTEND;TZID=Europe/Amsterdam:20250622T180000
DTSTAMP:20250612T093544Z
URL:https://agenda-zaanstreek.nl/events/keti-koti-kinderevenement/
SUMMARY:Keti Koti Kinderevenement
DESCRIPTION:\n\n
CATEGORIES:Jeugd
LOCATION:Wijkcentrum de Poelenburcht\, Weerpad 1 A\, Zaandam\, 1504 NX\, Ne
 derland
X-APPLE-STRUCTURED-LOCATION;VALUE=URI;X-ADDRESS=Weerpad 1 A\, Zaandam\, 150
 4 NX\, Nederland;X-APPLE-RADIUS=100;X-TITLE=Wijkcentrum de Poelenburcht:ge
 o:0,0
END:VEVENT
BEGIN:VTIMEZONE
TZID:Europe/Amsterdam
X-LIC-LOCATION:Europe/Amsterdam
BEGIN:DAYLIGHT
DTSTART:20250330T030000
TZOFFSETFROM:+0100
TZOFFSETTO:+0200
TZNAME:CEST
END:DAYLIGHT
END:VTIMEZONE
END:VCALENDAR