BEGIN:VCALENDAR
VERSION:2.0
PRODID:-//wp-events-plugin.com//7.2.3.1//EN
TZID:Europe/Amsterdam
X-WR-TIMEZONE:Europe/Amsterdam
BEGIN:VEVENT
UID:40895@agenda-zaanstreek.nl
DTSTART;TZID=Europe/Amsterdam:20251219T190000
DTEND;TZID=Europe/Amsterdam:20251219T190000
DTSTAMP:20251216T175335Z
URL:https://agenda-zaanstreek.nl/events/kerstwandeling-de-laatste-loodjes/
SUMMARY:Kerstwandeling De Laatste Loodjes
DESCRIPTION:\nVrijdag 19 December\nStartplaats : Buurtcentrum de Vuister\nM
 olenwerf 158\, 1541 WR Koog aan de Zaan.\nAfstand : +/- 9 Km\nStarttijd : 
 19:00\nDit is een Groepswandeling\n\n\nInschrijfgeld : € 6\,00 KWbN Lede
 n € 5\,00 DLL leden € 4\,00.\nBij voorkeur ter plekke met PIN betalen.
 \n\n\nPer persoon aanmelden a.u.b.\nAanmelding/Voorinschrijving verplicht 
 NIET tot deelname.\nInschrijven ter plekke is ook mogelijk\n\n\nHiervoor o
 ntvang je een kop koffie/thee.\nOnderweg is er Chocolademelk en een Duivek
 ater.\nEn… na afloop glühwein.\nTevens is er weer een Puzzle ruilbeurs\
 n
CATEGORIES:Recreatiesport
LOCATION:Buurthuis De Vuister\, Molenwerf 158\, Koog aan de Zaan\, 1541 WR\
 , Nederland
X-APPLE-STRUCTURED-LOCATION;VALUE=URI;X-ADDRESS=Molenwerf 158\, Koog aan de
  Zaan\, 1541 WR\, Nederland;X-APPLE-RADIUS=100;X-TITLE=Buurthuis De Vuiste
 r:geo:0,0
END:VEVENT
BEGIN:VTIMEZONE
TZID:Europe/Amsterdam
X-LIC-LOCATION:Europe/Amsterdam
BEGIN:STANDARD
DTSTART:20251026T020000
TZOFFSETFROM:+0200
TZOFFSETTO:+0100
TZNAME:CET
END:STANDARD
END:VTIMEZONE
END:VCALENDAR