BEGIN:VCALENDAR
VERSION:2.0
PRODID:-//wp-events-plugin.com//7.2.3.1//EN
TZID:Europe/Amsterdam
X-WR-TIMEZONE:Europe/Amsterdam
BEGIN:VEVENT
UID:36487@agenda-zaanstreek.nl
DTSTART;TZID=Europe/Amsterdam:20241224T170000
DTEND;TZID=Europe/Amsterdam:20241224T200000
DTSTAMP:20241219T101748Z
URL:https://agenda-zaanstreek.nl/events/kerstviering-op-de-fronik-boerderi
 j/
SUMMARY:Kerstviering op de Fronik boerderij
DESCRIPTION:\n\n\n\n\n\nOns traditionele gezellige kerstfeest op de Fronik.
  Natuurlijk weer met heerlijke glühwein\, chocomel\, andere drankjes en h
 apjes.\nTwee koren zorgen dit jaar voor de juiste sfeer. Het country en we
 stern koor Rumberley (bekend van vorig jaar) en het popkoor LovetoSing. Er
  is vast voor iedereen het juiste kerstnummer.\nDe toegang is gratis.\nEr 
 is geen parkeergelegenheid voor de boerderij\, dus kom op de fiets of te v
 oet.\nMet de opbrengst financieren we de verzorging van onze dieren en het
  onderhoud van de Fronik.\n\n\n
CATEGORIES:Sociaal
LOCATION:Fronikboerderij\, Westzanerdijk 150\, Zaandam\, Nederland
X-APPLE-STRUCTURED-LOCATION;VALUE=URI;X-ADDRESS=Westzanerdijk 150\, Zaandam
 \, Nederland;X-APPLE-RADIUS=100;X-TITLE=Fronikboerderij:geo:0,0
END:VEVENT
BEGIN:VTIMEZONE
TZID:Europe/Amsterdam
X-LIC-LOCATION:Europe/Amsterdam
BEGIN:STANDARD
DTSTART:20241027T020000
TZOFFSETFROM:+0200
TZOFFSETTO:+0100
TZNAME:CET
END:STANDARD
END:VTIMEZONE
END:VCALENDAR