BEGIN:VCALENDAR
VERSION:2.0
PRODID:-//wp-events-plugin.com//7.2.3.1//EN
TZID:Europe/Amsterdam
X-WR-TIMEZONE:Europe/Amsterdam
BEGIN:VEVENT
UID:40845@agenda-zaanstreek.nl
DTSTART;TZID=Europe/Amsterdam:20251217T100000
DTEND;TZID=Europe/Amsterdam:20251217T120000
DTSTAMP:20251207T105305Z
URL:https://agenda-zaanstreek.nl/events/kerststukje-maken/
SUMMARY:Kerststukje maken
DESCRIPTION:\n\n\n\n\nGeen mooier moment voor een workshop bloemschikken da
 n de Kerst. Graag je eigen mandje of bloempot meenemen om het bloemstukje 
 in te maken. Alle overige materialen worden verstrekt. De kosten bedragen 
 € 15. In verband met de inkoop van materialen is het noodzakelijk dat de
 elnemers zich uiterlijk een week van tevoren aanmelden. Het maximumaantal 
 deelnemers is 15 personen.\n\n\n\n\n\n\n\n\n\n\n&nbsp\;\n\n\n\nDag/Tijd\nw
 oensdag 17 december\, 10.00-12.00 uur\n\n\nLocatie\nOntmoetingsruimte\n\n\
 nKosten\n€ 15\n\n\nContact\nHedy Merkx\, 06-11000064\n\n\nInschrijven\nv
 ia telefoonnummer bij contact\n\n\n\n\n\n\n
CATEGORIES:Cursus Workshop
LOCATION:Buurthuis De Vuister\, Molenwerf 158\, Koog aan de Zaan\, 1541 WR\
 , Nederland
X-APPLE-STRUCTURED-LOCATION;VALUE=URI;X-ADDRESS=Molenwerf 158\, Koog aan de
  Zaan\, 1541 WR\, Nederland;X-APPLE-RADIUS=100;X-TITLE=Buurthuis De Vuiste
 r:geo:0,0
END:VEVENT
BEGIN:VTIMEZONE
TZID:Europe/Amsterdam
X-LIC-LOCATION:Europe/Amsterdam
BEGIN:STANDARD
DTSTART:20251026T020000
TZOFFSETFROM:+0200
TZOFFSETTO:+0100
TZNAME:CET
END:STANDARD
END:VTIMEZONE
END:VCALENDAR