BEGIN:VCALENDAR
VERSION:2.0
PRODID:-//wp-events-plugin.com//7.2.3.1//EN
TZID:Europe/Amsterdam
X-WR-TIMEZONE:Europe/Amsterdam
BEGIN:VEVENT
UID:35830@agenda-zaanstreek.nl
DTSTART;TZID=Europe/Amsterdam:20241218T183000
DTEND;TZID=Europe/Amsterdam:20241218T183000
DTSTAMP:20241119T200623Z
URL:https://agenda-zaanstreek.nl/events/kerstconcert-open-podium-in-de-pas
 veerzaal-van-fluxus/
SUMMARY:Kerstconcert & Open Podium in de Pasveerzaal van FluXus
DESCRIPTION:Kom op woensdag 18 december luisteren en meezingen bij het Kers
 tconcert &amp\; Open Podium in de Pasveerzaal van FluXus. Het open podium 
 is voor alle amateurmuzikanten uit heel de Zaanstreek. De toegang is grati
 s\, en iedereen is van harte welkom om deze gezellige en muzikale avond me
 e te vieren.De avond begint met een kinder- kerstconcert. Daarna volgt een
  gevarieerd programma\, waarin zowel optredens als samen zingen centraal s
 taan. Dit is je kans om niet alleen naar muziek te luisteren\, maar ook de
 el te nemen aan de kerstsfeer door samen met anderen bekende kerstliederen
  mee te zingen!\nNieuw dit jaar: Carols Sing AlongHelaas is er dit jaar ge
 en ´Carols from Scratch´\, maar we bieden wel een feestelijke Carols Sin
 g Along op 18 december. In deze speciale toevoeging aan het programma nodi
 gen we het publiek uit om mee te zingen\, begeleid door piano en harp. Of 
 je nu een doorgewinterde zanger bent of gewoon graag meedoet\, jouw stem m
 aakt de magie compleet.\nMeedoen aan het Open Podium?Je kunt je aanmelden 
 bij Eva Tebbe via info@fluxus.nl. Graag doorgeven:– Je naam en leeftijd
 – Wat je gaat spelen (naam componist en compositie) en op welk instrumen
 t– Of je pianobegeleiding nodig hebt– Hoe lang je optreden ongeveer du
 urt– Of je iets nodig hebt (lessenaar(s)\, vleugel\, etc.)– Of je iets
  nodig hebt qua techniek\nTijd: 18.30 uurLocatie: Pasveerzaal\, FluXus-loc
 atie Muziekschool\, Westzijde 148\, ZaandamEntree: Gratis (collecte na afl
 oop)Meer info &gt\;&nbsp\;fluxus.nl/agenda/fluxus-kerst-open-podium/&nbsp\
 ;\nM\n
CATEGORIES:Muziek
LOCATION:Fluxus\, centrum voor de kunsten - locatie muziek\, Westzijde 148\
 , Zaandam\, 1506 EK\, Nederland
X-APPLE-STRUCTURED-LOCATION;VALUE=URI;X-ADDRESS=Westzijde 148\, Zaandam\, 1
 506 EK\, Nederland;X-APPLE-RADIUS=100;X-TITLE=Fluxus\, centrum voor de kun
 sten - locatie muziek:geo:0,0
END:VEVENT
BEGIN:VTIMEZONE
TZID:Europe/Amsterdam
X-LIC-LOCATION:Europe/Amsterdam
BEGIN:STANDARD
DTSTART:20241027T020000
TZOFFSETFROM:+0200
TZOFFSETTO:+0100
TZNAME:CET
END:STANDARD
END:VTIMEZONE
END:VCALENDAR