BEGIN:VCALENDAR
VERSION:2.0
PRODID:-//wp-events-plugin.com//7.2.3.1//EN
TZID:Europe/Amsterdam
X-WR-TIMEZONE:Europe/Amsterdam
BEGIN:VEVENT
UID:36189@agenda-zaanstreek.nl
DTSTART;TZID=Europe/Amsterdam:20241215T143000
DTEND;TZID=Europe/Amsterdam:20241215T143000
DTSTAMP:20241204T154810Z
URL:https://agenda-zaanstreek.nl/events/kerstconcert-gospelkoor-deliveranc
 e-in-wormer/
SUMMARY:Kerstconcert Gospelkoor Deliverance in Wormer
DESCRIPTION:\n\nGospelkoor Deliverance zingt American Black Gospel met invl
 oeden vanuit R&amp\;B en Soul. Het koor zingt driestemmig\, soulfull en sp
 rankelend. Deliverance neemt je mee in de wereld van de Gospel.\n\nHet gos
 pelkoor viert dit jaar haar 25-jarig jubileum. Zij treedt zo’n 10 à 15 
 keer op per jaar en is een graag geziene gast bij o.a. kerkdiensten\, kers
 tvieringen en festivals. Zo heeft het koor opgetreden op De Parade\, meege
 werkt aan een aantal afleveringen van de&nbsp\; talkshow Up! \, in De Nieu
 we Liefde in Amsterdam en is zij te gast geweest bij het Nederlands Philha
 rmonisch Orkest. Ook staat zij ieder jaar in Paradiso tijdens de Korendage
 n en trad Deliverance al twee keer eerder op met veel succes in de Maria M
 agdalena Kerk. Nu op zondagmiddag 15 december a.s.!\n\nEntree bedraagt 15\
 ,00 euro inclusief.&nbsp\; Aanvang 14.30 uur.\n\nAdres: Maria Magdalenaker
 k Dorpsstraat 351&nbsp\; 1531HJ Wormer\n\n&nbsp\;Kaarten via de website ww
 w.concertenwormer.nl of tel.075-642 1282
CATEGORIES:Koren,Muziek
LOCATION:Maria Magdalena kerk Wormer\, Dorpsstraat 351\, Wormer\, 1531 HJ\,
  Nederland
X-APPLE-STRUCTURED-LOCATION;VALUE=URI;X-ADDRESS=Dorpsstraat 351\, Wormer\, 
 1531 HJ\, Nederland;X-APPLE-RADIUS=100;X-TITLE=Maria Magdalena kerk Wormer
 :geo:0,0
END:VEVENT
BEGIN:VTIMEZONE
TZID:Europe/Amsterdam
X-LIC-LOCATION:Europe/Amsterdam
BEGIN:STANDARD
DTSTART:20241027T020000
TZOFFSETFROM:+0200
TZOFFSETTO:+0100
TZNAME:CET
END:STANDARD
END:VTIMEZONE
END:VCALENDAR