BEGIN:VCALENDAR
VERSION:2.0
PRODID:-//wp-events-plugin.com//7.2.3.1//EN
TZID:Europe/Amsterdam
X-WR-TIMEZONE:Europe/Amsterdam
BEGIN:VEVENT
UID:36333@agenda-zaanstreek.nl
DTSTART;TZID=Europe/Amsterdam:20241214T200000
DTEND;TZID=Europe/Amsterdam:20241214T200000
DTSTAMP:20241212T085605Z
URL:https://agenda-zaanstreek.nl/events/kerstconcert-crescendo/
SUMMARY:Kerstconcert Crescendo
DESCRIPTION:Kerstconcert Crescendo onder leiding van Bob Theunissen\, met m
 edewerking van zangeressen. Aanvang 20:00 uur. Entree tien euro\, meer inf
 ormatie en aanmelden: 06 51 44 43 96&nbsp\;
CATEGORIES:Muziek
LOCATION:Grote Kerk Oostzaan\, Kerkbuurt 12\, Oostzaan\, 1511 BD\, Oostzaan
 \, Nederland
X-APPLE-STRUCTURED-LOCATION;VALUE=URI;X-ADDRESS=Kerkbuurt 12\, Oostzaan\, 1
 511 BD\, Oostzaan\, Nederland;X-APPLE-RADIUS=100;X-TITLE=Grote Kerk Oostza
 an:geo:0,0
END:VEVENT
BEGIN:VTIMEZONE
TZID:Europe/Amsterdam
X-LIC-LOCATION:Europe/Amsterdam
BEGIN:STANDARD
DTSTART:20241027T020000
TZOFFSETFROM:+0200
TZOFFSETTO:+0100
TZNAME:CET
END:STANDARD
END:VTIMEZONE
END:VCALENDAR