BEGIN:VCALENDAR
VERSION:2.0
PRODID:-//wp-events-plugin.com//7.2.3.1//EN
TZID:Europe/Amsterdam
X-WR-TIMEZONE:Europe/Amsterdam
BEGIN:VEVENT
UID:35627@agenda-zaanstreek.nl
DTSTART;TZID=Europe/Amsterdam:20241130T110000
DTEND;TZID=Europe/Amsterdam:20241201T160000
DTSTAMP:20241106T091306Z
URL:https://agenda-zaanstreek.nl/events/kerstcadeaumarkt-van-conceptstore-
 pear-tree-in-de-wormerveerse-vermaning/
SUMMARY:Kerstcadeaumarkt van Conceptstore Pear Tree in de Wormerveerse Verm
 aning
DESCRIPTION:\n\n\n\n\n\n30 november om 11:00\n\n\nKerstcadeaumarkt van Conc
 eptstore Pear Tree in de Wormerveerse Vermaning\, Zaanweg 57\, Wormerveer.
  11-16 uur\; GRATIS ENTREE\n\n\nIn het weekend van 30 november &amp\; 1 de
 cember organiseert Conceptstore Pear Tree weer haar gezellige en mooie ker
 stcadeaumarkt in de Wormerveerse Vermaning!\nVeel ondernemers uit de winke
 l zullen aanwezig zijn en er is natuurlijk ook weer ruimte voor verschille
 nde workshops.\nEen uitstekende gelegenheid om het juiste cadeautje te vin
 den.\nBeide dagen is de markt geopend van 11 – 16 uur.\nBEIDE DAGEN GRAT
 IS ENTREE\n\nEn wat is er nu leuker dan zelf iets voor kerst te maken?\nZa
 terdag 13.00 uur is er een workshop Paddenstoel boomhanger maken.\nZondag 
 13.00 uur kunt u een Naaldvilt kerstbal maken.\nEen workshop kost €20\; 
 graag vooraf aanmelden in de winkel van Pear Tree\, Stationsstraat 2\, Wor
 merveer.\nOp beide dagen kunt u ook een Kaars maken\; de kosten hiervan zi
 jn €8\,50\; hiervoor is opgave vooraf niet nodig.\n
CATEGORIES:Cursus Workshop,Markt Braderie
LOCATION:Wormerveerse Vermaning\, Zaanweg 57\, Wormerveer\, 1521 DM\, Neder
 land
X-APPLE-STRUCTURED-LOCATION;VALUE=URI;X-ADDRESS=Zaanweg 57\, Wormerveer\, 1
 521 DM\, Nederland;X-APPLE-RADIUS=100;X-TITLE=Wormerveerse Vermaning:geo:0
 ,0
END:VEVENT
BEGIN:VTIMEZONE
TZID:Europe/Amsterdam
X-LIC-LOCATION:Europe/Amsterdam
BEGIN:STANDARD
DTSTART:20241027T020000
TZOFFSETFROM:+0200
TZOFFSETTO:+0100
TZNAME:CET
END:STANDARD
END:VTIMEZONE
END:VCALENDAR