BEGIN:VCALENDAR
VERSION:2.0
PRODID:-//wp-events-plugin.com//7.2.3.1//EN
TZID:Europe/Amsterdam
X-WR-TIMEZONE:Europe/Amsterdam
BEGIN:VEVENT
UID:35908@agenda-zaanstreek.nl
DTSTART;TZID=Europe/Amsterdam:20241213T193000
DTEND;TZID=Europe/Amsterdam:20241213T193000
DTSTAMP:20241121T095732Z
URL:https://agenda-zaanstreek.nl/events/kerstbingo-in-de-grote-kerk-oostza
 an/
SUMMARY:Kerstbingo in de Grote Kerk Oostzaan
DESCRIPTION:Vrijdag de 13de december is het weer zover: Kerstbingo in de Gr
 ote Kerk van Oostzaan!\nMet mooie prijzen en een gezellige sfeer staat dez
 e avond in het teken van kerst. De inkomsten gaan naar het beheer en behou
 d van het prachtige monumentale kerkgebouw.\n\nInloop: 19 uur\nAanvang: 19
 .30\n\nLeeftijd 18+\n\nKosten: €25\,-pp\nVoor 6 bingo rondes + gratis vr
 ijdag de 13de spel\n+ 5x kans op prijs in de tombola\n(worden overhandigd 
 bij aanvang in de kerk)\n+ gratis 1 kopje thee of koffie met wat lekkers.\
 nIn de prijs zit ook meteen een bijdrage aan de onderhoud van de kerk inbe
 grepen.\n\nExtra bingokaarten en tombola loten te koop in de kerk voordat 
 de bingo begint.\n\nBingoboekje €10\,-\nTombolalootjes 5 voor €5\,-\n\
 nMeld je nu aan en kom gezellig met zijn allen de kerstsfeer proeven in de
  kerk.\nWij gaan er een mooie avond van maken.\nTot&nbsp\;dan!
CATEGORIES:Spellen (bingo-bridge-etc)
LOCATION:Grote Kerk Oostzaan\, Kerkbuurt 12\, Oostzaan\, 1511 BD\, Oostzaan
 \, Nederland
X-APPLE-STRUCTURED-LOCATION;VALUE=URI;X-ADDRESS=Kerkbuurt 12\, Oostzaan\, 1
 511 BD\, Oostzaan\, Nederland;X-APPLE-RADIUS=100;X-TITLE=Grote Kerk Oostza
 an:geo:0,0
END:VEVENT
BEGIN:VTIMEZONE
TZID:Europe/Amsterdam
X-LIC-LOCATION:Europe/Amsterdam
BEGIN:STANDARD
DTSTART:20241027T020000
TZOFFSETFROM:+0200
TZOFFSETTO:+0100
TZNAME:CET
END:STANDARD
END:VTIMEZONE
END:VCALENDAR