BEGIN:VCALENDAR
VERSION:2.0
PRODID:-//wp-events-plugin.com//7.2.3.1//EN
TZID:Europe/Amsterdam
X-WR-TIMEZONE:Europe/Amsterdam
BEGIN:VEVENT
UID:36351@agenda-zaanstreek.nl
DTSTART;TZID=Europe/Amsterdam:20241226T120000
DTEND;TZID=Europe/Amsterdam:20241226T140000
DTSTAMP:20241219T104826Z
URL:https://agenda-zaanstreek.nl/events/kerst-vieren-in-de-bull-kerstbrunc
 h/
SUMMARY:Kerst vieren in de Bull – Kerstbrunch - GEANNULEERD
DESCRIPTION:\n\n\n\n\n\n\n\n\n\n\n\n\n\n\n\n\n\n\n\n\n\n\n\n\nDonderdag 26 
 december\, Tweede Kerstdag\, vieren wij samen kerst met een feestelijke ke
 rstbrunch. Ook als je alleen bent ben je van harte welkom. We maken er sam
 en een gezellige middag van. Er wordt gegeten aan lange tafels.\n\nDeuren 
 open: 11:30 uur\nAanvang: 12:00 uur\nEinde: 14:00 uur\n\nDe lunch kost €
  17\,50 per persoon. Reserveren kan via onderstaande knop.\n\n\n\n\n\n\n\n
 \n\n\n\nKoop tickets\n\n\n\n\n\n\n\n\n\n
CATEGORIES:Sociaal
LOCATION:Cultureel Centrum Bullekerk (Westzijderkerk)\, Westzijde 75\, Zaan
 dam\, 1506 ED\, Nederland
X-APPLE-STRUCTURED-LOCATION;VALUE=URI;X-ADDRESS=Westzijde 75\, Zaandam\, 15
 06 ED\, Nederland;X-APPLE-RADIUS=100;X-TITLE=Cultureel Centrum Bullekerk (
 Westzijderkerk):geo:0,0
END:VEVENT
BEGIN:VTIMEZONE
TZID:Europe/Amsterdam
X-LIC-LOCATION:Europe/Amsterdam
BEGIN:STANDARD
DTSTART:20241027T020000
TZOFFSETFROM:+0200
TZOFFSETTO:+0100
TZNAME:CET
END:STANDARD
END:VTIMEZONE
END:VCALENDAR