BEGIN:VCALENDAR
VERSION:2.0
PRODID:-//wp-events-plugin.com//7.2.3.1//EN
TZID:Europe/Amsterdam
X-WR-TIMEZONE:Europe/Amsterdam
BEGIN:VEVENT
UID:40869@agenda-zaanstreek.nl
DTSTART;TZID=Europe/Amsterdam:20251217T200000
DTEND;TZID=Europe/Amsterdam:20251217T200000
DTSTAMP:20251211T100957Z
URL:https://agenda-zaanstreek.nl/events/kerst-orgelconcert-met-samenzang-i
 n-grote-kerk-westzaan/
SUMMARY:Kerst orgelconcert met samenzang in Grote Kerk Westzaan
DESCRIPTION:Organist Minne Veldman geeft woensdag 17 december een kerstconc
 ert in de Grote Kerk van Westzaan\, ingang aan de Torenstraat.\n\n\nOrgani
 st Minne Veldman geeft een kerstconcert in de Grote Kerk van Westzaan\,&nb
 sp\;(Foto: aangeleverd)\n\n\nVeldman bespeelt het Flaes &amp\; Brünjes or
 gel met bekende kerstmelodieën van onder andere Händel\, Zwart\, Asma en
  Veldman. Bij een aantal nummers kunnen bezoekers meezingen.\nKaarslicht e
 n koffie\nHet concert vindt plaats bij kaarslicht. De kerk gaat om 19.15 u
 ur open en vooraf krijgen bezoekers koffie of thee aangeboden.\n\nHet conc
 ert begint om 20.00 uur en de toegang is gratis. Er wordt een collecte geh
 ouden voor het orgelfonds.\n\n
CATEGORIES:Muziek
LOCATION:Grote Kerk Westzaan\, Kerkbuurt 37\, Westzaan\, 1551 AB\, Nederlan
 d
X-APPLE-STRUCTURED-LOCATION;VALUE=URI;X-ADDRESS=Kerkbuurt 37\, Westzaan\, 1
 551 AB\, Nederland;X-APPLE-RADIUS=100;X-TITLE=Grote Kerk Westzaan:geo:0,0
END:VEVENT
BEGIN:VTIMEZONE
TZID:Europe/Amsterdam
X-LIC-LOCATION:Europe/Amsterdam
BEGIN:STANDARD
DTSTART:20251026T020000
TZOFFSETFROM:+0200
TZOFFSETTO:+0100
TZNAME:CET
END:STANDARD
END:VTIMEZONE
END:VCALENDAR