BEGIN:VCALENDAR
VERSION:2.0
PRODID:-//wp-events-plugin.com//7.2.3.1//EN
TZID:Europe/Amsterdam
X-WR-TIMEZONE:Europe/Amsterdam
BEGIN:VEVENT
UID:36483@agenda-zaanstreek.nl
DTSTART;TZID=Europe/Amsterdam:20241221T130000
DTEND;TZID=Europe/Amsterdam:20241221T180000
DTSTAMP:20241219T085713Z
URL:https://agenda-zaanstreek.nl/events/kerst-op-de-kip-koek-zopie-en-zing
 en/
SUMMARY:Kerst op De Kip\, Koek\, zopie en zingen!
DESCRIPTION:\nOp zaterdag 21 december is oliemolen De Bonte Hen\, ook De Ki
 p genoemd\, open!\n\n\n\n\nWe vieren dan Kerst op De Kip!Bij voldoende win
 d zal de molen in werking zijn en verzorgt de molenploeg koek en zopie.Er 
 is muziek en een gelegenheidskoor zingt kerstliedjes waarbij iedereen kan 
 meezingen.Open tussen 13 tot 18 uur.\n\nEntree € 7\,50 \, gratis voor le
 den.\n\n\n
CATEGORIES:Erfgoed
LOCATION:Cacaomolen De Bonte Hen\, Kalverringdijk 39\, Zaandam\, 1509 BT\, 
 Nederland
X-APPLE-STRUCTURED-LOCATION;VALUE=URI;X-ADDRESS=Kalverringdijk 39\, Zaandam
 \, 1509 BT\, Nederland;X-APPLE-RADIUS=100;X-TITLE=Cacaomolen De Bonte Hen:
 geo:0,0
END:VEVENT
BEGIN:VTIMEZONE
TZID:Europe/Amsterdam
X-LIC-LOCATION:Europe/Amsterdam
BEGIN:STANDARD
DTSTART:20241027T020000
TZOFFSETFROM:+0200
TZOFFSETTO:+0100
TZNAME:CET
END:STANDARD
END:VTIMEZONE
END:VCALENDAR