BEGIN:VCALENDAR
VERSION:2.0
PRODID:-//wp-events-plugin.com//7.2.3.1//EN
TZID:Europe/Amsterdam
X-WR-TIMEZONE:Europe/Amsterdam
BEGIN:VEVENT
UID:39865@agenda-zaanstreek.nl
DTSTART;TZID=Europe/Amsterdam:20250829T000000
DTEND;TZID=Europe/Amsterdam:20250831T000000
DTSTAMP:20250807T092104Z
URL:https://agenda-zaanstreek.nl/events/kermis-in-oostknollendam/
SUMMARY:Kermis in Oostknollendam
DESCRIPTION:Drie dagen kermis in Oostknollendam met:\n\n 	Vrijdag: vrouwenm
 iddag\, kinderkermis en de band ‘No Signal’\n 	Zaterdag: kinderspellen
 \, PrutStacleRun en muziek in het buurthuis\n 	Zondag: ringsteken\, kinder
 disco en Rad van Fortuin\n
CATEGORIES:Evenement
LOCATION:Dorpshuis Oostknollendam\, Dorpsstraat 95\, Oostknollendam\, 1534 
 NE\, Wormer\, Nederland
X-APPLE-STRUCTURED-LOCATION;VALUE=URI;X-ADDRESS=Dorpsstraat 95\, Oostknolle
 ndam\, 1534 NE\, Wormer\, Nederland;X-APPLE-RADIUS=100;X-TITLE=Dorpshuis O
 ostknollendam:geo:0,0
END:VEVENT
BEGIN:VTIMEZONE
TZID:Europe/Amsterdam
X-LIC-LOCATION:Europe/Amsterdam
BEGIN:DAYLIGHT
DTSTART:20250330T030000
TZOFFSETFROM:+0100
TZOFFSETTO:+0200
TZNAME:CEST
END:DAYLIGHT
END:VTIMEZONE
END:VCALENDAR