BEGIN:VCALENDAR
VERSION:2.0
PRODID:-//wp-events-plugin.com//7.2.3.1//EN
TZID:Europe/Amsterdam
X-WR-TIMEZONE:Europe/Amsterdam
BEGIN:VEVENT
UID:40433@agenda-zaanstreek.nl
DTSTART;TZID=Europe/Amsterdam:20251021T193000
DTEND;TZID=Europe/Amsterdam:20251021T211500
DTSTAMP:20251016T193957Z
URL:https://agenda-zaanstreek.nl/events/kennismaken-met-biodanza/
SUMMARY:Kennismaken met Biodanza
DESCRIPTION:Kennismaken met Biodanza. Gezond\, leuk\, ontspannend\, verbind
 end. Uit je hoofd\, in je lijf. Geen pasjes\, maar jouw beweging is altijd
  goed. We dansen alleen\, samen en met de groep. zie&nbsp\;www.biodanzavoo
 riedereen.nl.&nbsp\;Inloop vanaf 1915 uur. We starten om 1930 uur. Geen va
 stgestelde prijs\, eigen bijdrage is fijn.&nbsp\;\n\n\n\n&nbsp\;
CATEGORIES:Dans
LOCATION:Muziekvereniging Crescendo\, Dorpsstraat 535 A\, Assendelft\, 1566
  BL\, Nederland
X-APPLE-STRUCTURED-LOCATION;VALUE=URI;X-ADDRESS=Dorpsstraat 535 A\, Assende
 lft\, 1566 BL\, Nederland;X-APPLE-RADIUS=100;X-TITLE=Muziekvereniging Cres
 cendo:geo:0,0
END:VEVENT
BEGIN:VTIMEZONE
TZID:Europe/Amsterdam
X-LIC-LOCATION:Europe/Amsterdam
BEGIN:DAYLIGHT
DTSTART:20250330T030000
TZOFFSETFROM:+0100
TZOFFSETTO:+0200
TZNAME:CEST
END:DAYLIGHT
END:VTIMEZONE
END:VCALENDAR