BEGIN:VCALENDAR
VERSION:2.0
PRODID:-//wp-events-plugin.com//7.2.3.1//EN
TZID:Europe/Amsterdam
X-WR-TIMEZONE:Europe/Amsterdam
BEGIN:VEVENT
UID:35576@agenda-zaanstreek.nl
DTSTART;TZID=Europe/Amsterdam:20250221T201500
DTEND;TZID=Europe/Amsterdam:20250221T201500
DTSTAMP:20241031T133204Z
URL:https://agenda-zaanstreek.nl/events/kees-van-amstel-try-out-dit-gaat-a
 llemaal-van-jullie-tijd-af/
SUMMARY:Kees van Amstel (try-out) - Dit gaat allemaal van jullie tijd af
DESCRIPTION:“Dit gaat allemaal van jullie eigen tijd af…”\, heeft ied
 ereen wel eens gehoord in een klaslokaal. Maar tegenwoordig geldt het bijn
 a voor alles in de maatschappij\, alles gaat van onze tijd af. In de vijfd
 e solo voorstelling neemt Kees je weer mee in het klaslokaal maar ook ver 
 daarbuiten. Heel ver daarbuiten. Met prachtige verhalen. En met grappen\, 
 heel veel grappen\, as usual. Kees werd niet voor niets een meestervertell
 er genoemd in veel recensies. Dus kom! Ook al gaat dit van je eigen tijd a
 f!\n\n\nTekst en Spel: Kees van Amstel\nRegie: Hans Sibbel\nTechniek: Cynt
 hia de Waard en Eelco Vellema\n\n\n 	Datum:&nbsp\; 21 februari 2025\n 	Aan
 vang: 20.15 uur\n 	Ticketprijs: € 20\,00\n 	Inclusief consumptie\n 	Caba
 ret\n\n\n\nTickets bestellen
CATEGORIES:Cabaret
LOCATION:Theater de Kaasfabriek\, Dorpsstraat 206\, Wormer\, 1531 HS\, Worm
 er\, Nederland
X-APPLE-STRUCTURED-LOCATION;VALUE=URI;X-ADDRESS=Dorpsstraat 206\, Wormer\, 
 1531 HS\, Wormer\, Nederland;X-APPLE-RADIUS=100;X-TITLE=Theater de Kaasfab
 riek:geo:0,0
END:VEVENT
BEGIN:VTIMEZONE
TZID:Europe/Amsterdam
X-LIC-LOCATION:Europe/Amsterdam
BEGIN:STANDARD
DTSTART:20241027T020000
TZOFFSETFROM:+0200
TZOFFSETTO:+0100
TZNAME:CET
END:STANDARD
END:VTIMEZONE
END:VCALENDAR