BEGIN:VCALENDAR
VERSION:2.0
PRODID:-//wp-events-plugin.com//7.2.3.1//EN
TZID:Europe/Amsterdam
X-WR-TIMEZONE:Europe/Amsterdam
BEGIN:VEVENT
UID:37461@agenda-zaanstreek.nl
DTSTART;TZID=Europe/Amsterdam:20251218T200000
DTEND;TZID=Europe/Amsterdam:20251218T200000
DTSTAMP:20250226T101928Z
URL:https://agenda-zaanstreek.nl/events/karin-bloemen-kerstconcert/
SUMMARY:Karin Bloemen – kerstconcert
DESCRIPTION:\n\n\n\n\n\n\n\n\n\n\n\n\n\n\n\n\n\n\n\n\n\n\n\n\nKarin Bloemen
  geeft een feestelijk en sfeervol kerstconcert. Zij was in februari bij on
 s te zien in het programma Bernd ontvangt. In december komt ze met een pra
 chtig kerstconcert.\n\nDeze succesvolle cabaretière\, zangeres en actrice
  is vooral bekend om haar grote theatershows en haar opvallende\, prachtig
 e jurken. Ze is ook bekend van het programma ‘Beste Zangers’\, waarin 
 ze in het najaar van 2024 te zien was op tv.&nbsp\;Zij zal deze avond vull
 en met een prachtig kerstrepertoire.\n\nDit is een zitconcert.\n\nTickets:
  € 26\,50 (+ € 1\,00 reserveringskosten)\nAan de deur € 27\,50\n\n\n
 \n\n\n\n\n\n\n\n\nKoop tickets\n\n\n\n\n\n\n&nbsp\;\n\n\n\n\n\n\n&nbsp\;\n
 \n\n\n\n\n
CATEGORIES:Muziek
LOCATION:Cultureel Centrum Bullekerk (Westzijderkerk)\, Westzijde 75\, Zaan
 dam\, 1506 ED\, Nederland
X-APPLE-STRUCTURED-LOCATION;VALUE=URI;X-ADDRESS=Westzijde 75\, Zaandam\, 15
 06 ED\, Nederland;X-APPLE-RADIUS=100;X-TITLE=Cultureel Centrum Bullekerk (
 Westzijderkerk):geo:0,0
END:VEVENT
BEGIN:VTIMEZONE
TZID:Europe/Amsterdam
X-LIC-LOCATION:Europe/Amsterdam
BEGIN:STANDARD
DTSTART:20251026T020000
TZOFFSETFROM:+0200
TZOFFSETTO:+0100
TZNAME:CET
END:STANDARD
END:VTIMEZONE
END:VCALENDAR