BEGIN:VCALENDAR
VERSION:2.0
PRODID:-//wp-events-plugin.com//7.2.3.1//EN
TZID:Europe/Amsterdam
X-WR-TIMEZONE:Europe/Amsterdam
BEGIN:VEVENT
UID:36368@agenda-zaanstreek.nl
DTSTART;TZID=Europe/Amsterdam:20241222T163000
DTEND;TZID=Europe/Amsterdam:20241222T183000
DTSTAMP:20241212T112809Z
URL:https://agenda-zaanstreek.nl/events/karaoke-xmas-edition/
SUMMARY:Karaoke Xmas Edition
DESCRIPTION:\n\n\n&nbsp\;\n\n\n\n\nZingen? Ben jij er klaar voor om je zang
 talent te laten zien en er een feestje van te maken met je vrienden? Belee
 f de magie van de feestdagen in de prachtig versierde zaal. Miss Blue zet 
 de leukste Christmas muziekbanden uit eigen Karaoke bibliotheek voor je kl
 aar. Natuurlijk kun je ook je favoriete nummer aanvragen.&nbsp\;\n\nKom na
 ar de Dans Hotspot voor een feestelijke middag vol muziek en plezier. Grij
 p je kans\, pak een microfoon\, zing uit volle borst en maak er samen een 
 onvergetelijke herinnering van!\n\nZangvaardigheid is niet nodig\, de micr
 ofoon staat er voor iedereen!\n\nJouw zangtalent meer kans geven? Sluit ee
 ns aan bij Travocaal\, de zangles die al om 14:00 start.&nbsp\;Zangdocent 
 &amp\; kleinkunstenaar Yvonne Mandigers is ooit de Travocaal zangles gesta
 rt in De Lellebel\, om het talent onder Drags en Transgenders te ontwikkel
 en\, podium te creeren en daarmee mede acceptatie te vergroten binnen de m
 aatschappij. De Travocaal zangschool staat open voor transgenders\, traves
 tieten\, drags\, zangliefhebbers uit en vrienden van de LHBTIQ Community\n
 \n&nbsp\;\n\n\n\n
CATEGORIES:Dans,Muziek
LOCATION:Dans Hotspot Van Kooten\, Westzijde 71\, Zaandam\, 1506 EC\, Neder
 land
X-APPLE-STRUCTURED-LOCATION;VALUE=URI;X-ADDRESS=Westzijde 71\, Zaandam\, 15
 06 EC\, Nederland;X-APPLE-RADIUS=100;X-TITLE=Dans Hotspot Van Kooten:geo:0
 ,0
END:VEVENT
BEGIN:VTIMEZONE
TZID:Europe/Amsterdam
X-LIC-LOCATION:Europe/Amsterdam
BEGIN:STANDARD
DTSTART:20241027T020000
TZOFFSETFROM:+0200
TZOFFSETTO:+0100
TZNAME:CET
END:STANDARD
END:VTIMEZONE
END:VCALENDAR