BEGIN:VCALENDAR
VERSION:2.0
PRODID:-//wp-events-plugin.com//7.2.3.1//EN
TZID:Europe/Amsterdam
X-WR-TIMEZONE:Europe/Amsterdam
BEGIN:VEVENT
UID:40169@agenda-zaanstreek.nl
DTSTART;TZID=Europe/Amsterdam:20250914T133000
DTEND;TZID=Europe/Amsterdam:20250914T160000
DTSTAMP:20250911T100550Z
URL:https://agenda-zaanstreek.nl/events/karaoke-met-miss-blue/
SUMMARY:Karaoke met Miss Blue
DESCRIPTION:&nbsp\;\n14 sep. 2025 13:30 - 14 sep. 2025 16:00
CATEGORIES:Muziek,Sociaal | LHBTQI-gemeenschap
LOCATION:Fluxus\, centrum voor de kunsten - locatie Verkade\, Westzijde 168
 \, Zaandam\, 1506 EK\, Nederland
X-APPLE-STRUCTURED-LOCATION;VALUE=URI;X-ADDRESS=Westzijde 168\, Zaandam\, 1
 506 EK\, Nederland;X-APPLE-RADIUS=100;X-TITLE=Fluxus\, centrum voor de kun
 sten - locatie Verkade:geo:0,0
END:VEVENT
BEGIN:VTIMEZONE
TZID:Europe/Amsterdam
X-LIC-LOCATION:Europe/Amsterdam
BEGIN:DAYLIGHT
DTSTART:20250330T030000
TZOFFSETFROM:+0100
TZOFFSETTO:+0200
TZNAME:CEST
END:DAYLIGHT
END:VTIMEZONE
END:VCALENDAR