BEGIN:VCALENDAR
VERSION:2.0
PRODID:-//wp-events-plugin.com//7.2.3.1//EN
TZID:Europe/Amsterdam
X-WR-TIMEZONE:Europe/Amsterdam
BEGIN:VEVENT
UID:35709@agenda-zaanstreek.nl
DTSTART;TZID=Europe/Amsterdam:20241116T110000
DTEND;TZID=Europe/Amsterdam:20241117T180000
DTSTAMP:20241107T103257Z
URL:https://agenda-zaanstreek.nl/events/juwelen-aan-de-zaan/
SUMMARY:Juwelen aan de Zaan
DESCRIPTION:Geniet in het bijzondere interieur van Maroeska Metz van onze h
 eerlijke koffie\, thee en zelfgebakken taart.\nErvaar de serene schoonheid
  van het Zaanse uitzicht en ontdek een oase van rust te midden van schitte
 rende juwelen.\nGratis parkeren voor de deur. Het evenement vindt plaats i
 n Wormerveer en we kunnen je ophalen van station Wormerveer.\n\nEen kleins
 chalig\, sfeervol evenement\nMaak kennis met exclusieve\, handgemaakte sie
 raden van gerenommeerde ontwerpers.\nZeven gepassioneerde ontwerpers prese
 nteren de nieuwste collecties. Bezoekers kunnen unieke stukken\nbewonderen
  van onder andere Muriel Beigbeder\, Cecile van Eeden\, Maroeska\nMetz\, E
 line van der Laag (MOYA)\, Véronique Ribbink\, Maarten Versteeg en Sarah 
 Kobak.
CATEGORIES:Commercieel,Expositie
LOCATION:Maroeska Metz\, Noorddijk 90\, Wormerveer\, 1521 PD\, Nederland
X-APPLE-STRUCTURED-LOCATION;VALUE=URI;X-ADDRESS=Noorddijk 90\, Wormerveer\,
  1521 PD\, Nederland;X-APPLE-RADIUS=100;X-TITLE=Maroeska Metz:geo:0,0
END:VEVENT
BEGIN:VTIMEZONE
TZID:Europe/Amsterdam
X-LIC-LOCATION:Europe/Amsterdam
BEGIN:STANDARD
DTSTART:20241027T020000
TZOFFSETFROM:+0200
TZOFFSETTO:+0100
TZNAME:CET
END:STANDARD
END:VTIMEZONE
END:VCALENDAR