BEGIN:VCALENDAR
VERSION:2.0
PRODID:-//wp-events-plugin.com//7.2.3.1//EN
TZID:Europe/Amsterdam
X-WR-TIMEZONE:Europe/Amsterdam
BEGIN:VEVENT
UID:36096@agenda-zaanstreek.nl
DTSTART;TZID=Europe/Amsterdam:20250128T140000
DTEND;TZID=Europe/Amsterdam:20250128T140000
DTSTAMP:20241128T134030Z
URL:https://agenda-zaanstreek.nl/events/julika-marijn-buiten-de-lijnen-het
 -mysterie-mondriaan/
SUMMARY:Julika Marijn - Buiten de lijnen\, het mysterie Mondriaan
DESCRIPTION:&nbsp\;\n\nHet schilderij&nbsp\;Victory Boogie Woogie&nbsp\;wor
 dt wel&nbsp\;De Nachtwacht&nbsp\;van de 20e eeuw genoemd. Een work in prog
 ress dat tegelijk ook een meesterwerk is. Met Rembrandt\, Vermeer en Van G
 ogh hoort Mondriaan tot de grootste kunstenaars van ons land.\n\n\n\n\n\nI
 n de muziektheatervoorstelling&nbsp\;Buiten de lijnen\, het mysterie Mondr
 iaan&nbsp\;duikt theatermaker Julika Marijn in zijn leven. Dat doet zij sa
 men met pianist/componist Rembrandt Frerichs. Dat is niet voor niets: Mond
 riaan was een groot muziekliefhebber\; ritme is cruciaal in zijn werk.\n\n
 Aan de hand van personages uit zijn leven\, nieuwe muzikale composities en
  prachtige levensgrote visuals schilderen Julika en Rembrandt een toeganke
 lijk portret van de wereldberoemde kunstenaar die precies tachtig jaar gel
 eden overleed.\n\nBuiten de lijnen\, het mysterie Mondriaan&nbsp\;biedt ee
 n frisse kijk op het genie dat zichzelf keer op keer opnieuw wist uit te v
 inden.\n\n\n\n
CATEGORIES:Theater,Toneel
LOCATION:Zaantheater\, Nicolaasstraat 3\, Zaandam\, 1506 BB\, Nederland
X-APPLE-STRUCTURED-LOCATION;VALUE=URI;X-ADDRESS=Nicolaasstraat 3\, Zaandam\
 , 1506 BB\, Nederland;X-APPLE-RADIUS=100;X-TITLE=Zaantheater:geo:0,0
END:VEVENT
BEGIN:VTIMEZONE
TZID:Europe/Amsterdam
X-LIC-LOCATION:Europe/Amsterdam
BEGIN:STANDARD
DTSTART:20241027T020000
TZOFFSETFROM:+0200
TZOFFSETTO:+0100
TZNAME:CET
END:STANDARD
END:VTIMEZONE
END:VCALENDAR