BEGIN:VCALENDAR
VERSION:2.0
PRODID:-//wp-events-plugin.com//7.2.3.1//EN
TZID:Europe/Amsterdam
X-WR-TIMEZONE:Europe/Amsterdam
BEGIN:VEVENT
UID:38391@agenda-zaanstreek.nl
DTSTART;TZID=Europe/Amsterdam:20250518T150000
DTEND;TZID=Europe/Amsterdam:20250518T150000
DTSTAMP:20250424T075914Z
URL:https://agenda-zaanstreek.nl/events/jubileumconcert-go4singing/
SUMMARY:Jubileumconcert Go4singing!
DESCRIPTION:\n\nHet feestelijke voorjaarsconcert van 2025 staat in het teke
 n van het 15-jarig jubileum van vrouwenkoor Go4singing!\n\nZondag 18 mei o
 m 15 uur (zaal open 14.30 uur) viert pop-jazz koor Go4singing! haar 15-jar
 ig jubileum met een concert in samenwerking met Muziekvereniging Onderling
  Genoegen uit Krommenie. Het concert vindt plaats in de Petruskerk\, Snuiv
 erstraat 2 in Krommenie.\n\nKoor\n\nPop- en Jazzkoor Go4singing! is een vr
 ouwenkoor en bestaat sinds 2010. Het koor zingt 2-\, 3- en 4-stemmig in de
  stemgroepen sopraan\, mezzosopraan en alt. Het repertoire loopt uiteen va
 n de Beatles tot Norah Jones en van Herman van Veen tot Avicii. Het koor s
 taat onder leiding van dirigent Evert van Malkenhorst en pianist Lucas de 
 Bruin.\n\nKaartverkoop\n\nDe verkoop van tickets + 1 consumptie á 15\,00 
 pp\, studenten 12\,50\, kinderen t/m 12 jaar 7\,50 kan via https://www.tic
 ketkantoor.nl/shop/OG of via de QR-code.\n\nKaarten voor het concert zijn\
 , zolang de voorraad strekt\, ook te koop bij de ingang van de zaal voor a
 anvang vanaf 14.30 uur.\n\n&nbsp\;Programma\n\nHoe is het koor in die 15 j
 aar gegroeid? Wat gaan het groot orkest en het opleidingsorkest doen om he
 t koor in het zonnetje te zetten? En wat gebeurt er als je leden van het k
 oor en leden van de orkesten bij elkaar brengt? Laat je verrassen!\n\n&nbs
 p\;
CATEGORIES:Koren,Muziek
LOCATION:Petruskerk\, Snuiverstraat 2\, Krommenie\, 1561 HD\, Krommenie\, N
 ederland
X-APPLE-STRUCTURED-LOCATION;VALUE=URI;X-ADDRESS=Snuiverstraat 2\, Krommenie
 \, 1561 HD\, Krommenie\, Nederland;X-APPLE-RADIUS=100;X-TITLE=Petruskerk:g
 eo:0,0
END:VEVENT
BEGIN:VTIMEZONE
TZID:Europe/Amsterdam
X-LIC-LOCATION:Europe/Amsterdam
BEGIN:DAYLIGHT
DTSTART:20250330T030000
TZOFFSETFROM:+0100
TZOFFSETTO:+0200
TZNAME:CEST
END:DAYLIGHT
END:VTIMEZONE
END:VCALENDAR