BEGIN:VCALENDAR
VERSION:2.0
PRODID:-//wp-events-plugin.com//7.2.3.1//EN
TZID:Europe/Amsterdam
X-WR-TIMEZONE:Europe/Amsterdam
BEGIN:VEVENT
UID:40866@agenda-zaanstreek.nl
DTSTART;TZID=Europe/Amsterdam:20251214T150000
DTEND;TZID=Europe/Amsterdam:20251214T150000
DTSTAMP:20251211T100213Z
URL:https://agenda-zaanstreek.nl/events/jubileumconcert-apollo-zaandijk/
SUMMARY:Jubileumconcert Apollo Zaandijk
DESCRIPTION:Zondag 14 december 2025 - Vanaf 15.00 uur\n\nMuziekvereniging A
 pollo Zaandijk viert haar 130-jarig bestaan met een jubileumconcert in de 
 Kogerkerk\, onder leiding van Astrid Gorter. Het harmonieorkest brengt een
  gevarieerd programma met solisten Eric van der Veeken (zang) en Gisla Bru
 itsman (klarinet)\, die speelt in het werk&nbsp\;Winter Mansion&nbsp\;van 
 oud-Apollo-lid Thierry Oosterhoff. Voor de pauze klinkt een mix van repert
 oire\; na de pauze volgt kerstmuziek. De kerk opent om 14.30 uur\, het opt
 reden begint om 15.00 uur. Toegang\, koffie en thee zijn gratis en een vri
 jwillige bijdrage is welkom.\n\nLocatie: Kogerkerk - Kerkstraat 14\, Koog 
 aan de Zaan
CATEGORIES:Muziek
LOCATION:Kogerkerk\, Kerkstraat 14\, Koog aan de Zaan\, 1541 HA\, Nederland
X-APPLE-STRUCTURED-LOCATION;VALUE=URI;X-ADDRESS=Kerkstraat 14\, Koog aan de
  Zaan\, 1541 HA\, Nederland;X-APPLE-RADIUS=100;X-TITLE=Kogerkerk:geo:0,0
END:VEVENT
BEGIN:VTIMEZONE
TZID:Europe/Amsterdam
X-LIC-LOCATION:Europe/Amsterdam
BEGIN:STANDARD
DTSTART:20251026T020000
TZOFFSETFROM:+0200
TZOFFSETTO:+0100
TZNAME:CET
END:STANDARD
END:VTIMEZONE
END:VCALENDAR