BEGIN:VCALENDAR
VERSION:2.0
PRODID:-//wp-events-plugin.com//7.2.3.1//EN
TZID:Europe/Amsterdam
X-WR-TIMEZONE:Europe/Amsterdam
BEGIN:VEVENT
UID:35355@agenda-zaanstreek.nl
DTSTART;TZID=Europe/Amsterdam:20241117T143000
DTEND;TZID=Europe/Amsterdam:20241117T143000
DTSTAMP:20241020T142149Z
URL:https://agenda-zaanstreek.nl/events/jubileumconcert-65-jaar-westzijder
 kerkkoor/
SUMMARY:Jubileumconcert 65 jaar Westzijderkerkkoor
DESCRIPTION:
CATEGORIES:Koren
LOCATION:Noorderkerk\, Heijermansstraat 127\, Zaandam\, 1502 DJ\, Nederland
X-APPLE-STRUCTURED-LOCATION;VALUE=URI;X-ADDRESS=Heijermansstraat 127\, Zaan
 dam\, 1502 DJ\, Nederland;X-APPLE-RADIUS=100;X-TITLE=Noorderkerk:geo:0,0
END:VEVENT
BEGIN:VTIMEZONE
TZID:Europe/Amsterdam
X-LIC-LOCATION:Europe/Amsterdam
BEGIN:STANDARD
DTSTART:20241027T020000
TZOFFSETFROM:+0200
TZOFFSETTO:+0100
TZNAME:CET
END:STANDARD
END:VTIMEZONE
END:VCALENDAR