BEGIN:VCALENDAR
VERSION:2.0
PRODID:-//wp-events-plugin.com//7.2.3.1//EN
TZID:Europe/Amsterdam
X-WR-TIMEZONE:Europe/Amsterdam
BEGIN:VEVENT
UID:36505@agenda-zaanstreek.nl
DTSTART;TZID=Europe/Amsterdam:20250208T201500
DTEND;TZID=Europe/Amsterdam:20250208T201500
DTSTAMP:20241219T111504Z
URL:https://agenda-zaanstreek.nl/events/jos-van-beest-ontvangt-deborah-j-c
 arter-mark-zandveld-quartet/
SUMMARY:Jos van Beest ontvangt.. Deborah J. Carter & Mark Zandveld Quartet
DESCRIPTION:\n&nbsp\;\n\n\nZangeres Deborah J. Carter werd geboren in de VS
  en groeide op in Hawaï en Japan.\n\n\nZij studeerde af aan het befaamde 
 Berklee conservatorium in Boston en heeft sindsdien veel opgetreden op in 
 Europa\, Afrika en Azië. Deborah Carter geeft masterclasses en workshops 
 over de hele wereld en was hoogleraar jazz-zang in Spanje en Duitsland. In
  2023 ontving ze de Meer Jazz-prijs in Nederland.\nBassist Mark Zandveld i
 s producer en componist en geboren in Amsterdam. Hij is de vaste bassist v
 an het jazzkwartet van zangeres/componiste Deborah Carter. Daarnaast heeft
  Mark zijn eigen instrumentale groep: “Zandscape" en een jazzkwartet plu
 s strijkkwartet onder de naam “Zandzemble’\; voor beide componeert hij
  ook.\nOok Mark treedt wereldwijd op.\nLine up\nDeborah J. Carter – voca
 ls\nJeen Rabs – guitar\nMark Zandveld – bass\nJurjen Bakker - drums\nJ
 os van Beest – piano\n\nZaal open: 19.45\n
CATEGORIES:Muziek
LOCATION:Wormerveerse Vermaning\, Zaanweg 57\, Wormerveer\, 1521 DM\, Neder
 land
X-APPLE-STRUCTURED-LOCATION;VALUE=URI;X-ADDRESS=Zaanweg 57\, Wormerveer\, 1
 521 DM\, Nederland;X-APPLE-RADIUS=100;X-TITLE=Wormerveerse Vermaning:geo:0
 ,0
END:VEVENT
BEGIN:VTIMEZONE
TZID:Europe/Amsterdam
X-LIC-LOCATION:Europe/Amsterdam
BEGIN:STANDARD
DTSTART:20241027T020000
TZOFFSETFROM:+0200
TZOFFSETTO:+0100
TZNAME:CET
END:STANDARD
END:VTIMEZONE
END:VCALENDAR