BEGIN:VCALENDAR
VERSION:2.0
PRODID:-//wp-events-plugin.com//7.2.3.1//EN
TZID:Europe/Amsterdam
X-WR-TIMEZONE:Europe/Amsterdam
BEGIN:VEVENT
UID:34176@agenda-zaanstreek.nl
DTSTART;TZID=Europe/Amsterdam:20241114T203000
DTEND;TZID=Europe/Amsterdam:20241114T203000
DTSTAMP:20240808T095447Z
URL:https://agenda-zaanstreek.nl/events/joosen-en-de-jager-aanklonteren/
SUMMARY:Joosen en de Jager - Aanklonteren
DESCRIPTION:\n\n\n 	Cabaret\n\n\n\n\nWe klooien maar wat aan met z'n allen.
  Lekker vertrouwd in onze eigen bubbel. Praten met de ander is overbodig. 
 Luisteren is vies. Daarom hebben wij het liever over de klont. Het is klon
 t tegen klont en zoek het verder maar uit. We kleven om te overleven. Aank
 lonteren dus.\n\n\n\nLees meer\n\n\n\n\nPrijzen\n\n\n\n\n\nExtra informati
 e:\n\n\n\n\n\ndo14 nov 202420.30Kleine ZaalBestel\n\n
CATEGORIES:Cabaret
LOCATION:Zaantheater\, Nicolaasstraat 3\, Zaandam\, 1506 BB\, Nederland
X-APPLE-STRUCTURED-LOCATION;VALUE=URI;X-ADDRESS=Nicolaasstraat 3\, Zaandam\
 , 1506 BB\, Nederland;X-APPLE-RADIUS=100;X-TITLE=Zaantheater:geo:0,0
END:VEVENT
BEGIN:VTIMEZONE
TZID:Europe/Amsterdam
X-LIC-LOCATION:Europe/Amsterdam
BEGIN:STANDARD
DTSTART:20241027T020000
TZOFFSETFROM:+0200
TZOFFSETTO:+0100
TZNAME:CET
END:STANDARD
END:VTIMEZONE
END:VCALENDAR