BEGIN:VCALENDAR
VERSION:2.0
PRODID:-//wp-events-plugin.com//7.2.3.1//EN
TZID:Europe/Amsterdam
X-WR-TIMEZONE:Europe/Amsterdam
BEGIN:VEVENT
UID:40054@agenda-zaanstreek.nl
DTSTART;TZID=Europe/Amsterdam:20250921T000000
DTEND;TZID=Europe/Amsterdam:20250921T000000
DTSTAMP:20250828T100029Z
URL:https://agenda-zaanstreek.nl/events/jongwijs-proef-de-streek/
SUMMARY:Jongwijs - Proef de streek
DESCRIPTION:\n\n\n\n\n\n\n\nMaandelijks gaan we weer met onze bevriende bos
 wachters en een boot vol nieuwsgierige gasten op een bijzondere ontdekking
 sreis. We&nbsp\;doorkruisen dan&nbsp\;het prachtige natuurgebied waar Jong
 wijs aan ligt: De Reef. De boswachters van Staatsbosbeheer gidsen je met h
 un verhalen langs de mooiste plekken van dit stukje Zaanstreek\, en laten 
 je afstappen om regelmatig wat moois te proeven.\n\nEenmaal terug bij Jong
 wijs\, trekken we onze jassen en schoenen uit en schuiven we aan tafel voo
 r een heerlijk driegangendiner\, waarin Zaanse ingrediënten de hoofdrol s
 pelen. We proosten met ons eigen verrukkelijke Wijs Jochie biertje\, of ee
 n mooi glas wijn\, of iets anders.\n\n\n\n\n
CATEGORIES:Excursie,Horeca
LOCATION:Jongwijs\, J.J. Allanstraat 119-121\, Westzaan\, 1551 AD\, Westzaa
 n\, Nederland
X-APPLE-STRUCTURED-LOCATION;VALUE=URI;X-ADDRESS=J.J. Allanstraat 119-121\, 
 Westzaan\, 1551 AD\, Westzaan\, Nederland;X-APPLE-RADIUS=100;X-TITLE=Jongw
 ijs:geo:0,0
END:VEVENT
BEGIN:VTIMEZONE
TZID:Europe/Amsterdam
X-LIC-LOCATION:Europe/Amsterdam
BEGIN:DAYLIGHT
DTSTART:20250330T030000
TZOFFSETFROM:+0100
TZOFFSETTO:+0200
TZNAME:CEST
END:DAYLIGHT
END:VTIMEZONE
END:VCALENDAR