BEGIN:VCALENDAR
VERSION:2.0
PRODID:-//wp-events-plugin.com//7.2.3.1//EN
TZID:Europe/Amsterdam
X-WR-TIMEZONE:Europe/Amsterdam
BEGIN:VEVENT
UID:37247@agenda-zaanstreek.nl
DTSTART;TZID=Europe/Amsterdam:20250627T190000
DTEND;TZID=Europe/Amsterdam:20250627T230000
DTSTAMP:20250206T105332Z
URL:https://agenda-zaanstreek.nl/events/jongerenfeest-roze-zaterdag/
SUMMARY:Jongerenfeest Roze Zaterdag
DESCRIPTION:Jongerenfeest op 27 juni\n\nHet thema van Roze Zaterdag 2025 is
  ‘De Zaanstreek in alle kleuren’. Rond de 40 vrijwilligers afkomstig u
 it verschillende doelgroepen hebben meegedacht over de invulling van het p
 rogramma. De brede programmering maakt het event aantrekkelijk voor veel v
 erschillende doelgroepen.\nOp vrijdag 27 juni is er een jongerenfeest van 
 19:00-23:00 uur. Op het podium in de Damstraat komen optredens van artiest
 en die populair zijn onder jongeren. Onder andere Billy Dans\, DJ Jess\, E
 lla John\, Relics en Ritchie treden op.
CATEGORIES:Evenement,Muziek,Sociaal | LHBTQI-gemeenschap
LOCATION:Zaandam\, -\, -\, Nederland
X-APPLE-STRUCTURED-LOCATION;VALUE=URI;X-ADDRESS=-\, -\, Nederland;X-APPLE-R
 ADIUS=100;X-TITLE=Zaandam:geo:0,0
END:VEVENT
BEGIN:VTIMEZONE
TZID:Europe/Amsterdam
X-LIC-LOCATION:Europe/Amsterdam
BEGIN:DAYLIGHT
DTSTART:20250330T030000
TZOFFSETFROM:+0100
TZOFFSETTO:+0200
TZNAME:CEST
END:DAYLIGHT
END:VTIMEZONE
END:VCALENDAR