BEGIN:VCALENDAR
VERSION:2.0
PRODID:-//wp-events-plugin.com//7.2.3.1//EN
TZID:Europe/Amsterdam
X-WR-TIMEZONE:Europe/Amsterdam
BEGIN:VEVENT
UID:36075@agenda-zaanstreek.nl
DTSTART;TZID=Europe/Amsterdam:20241214T140000
DTEND;TZID=Europe/Amsterdam:20241214T163000
DTSTAMP:20241128T111012Z
URL:https://agenda-zaanstreek.nl/events/jongeren-instuif-workshop-linedanc
 e-2/
SUMMARY:Jongeren Instuif - Workshop Kerstcrea
DESCRIPTION:
CATEGORIES:Cursus Workshop,Jeugd
LOCATION:Buurtcentrum A3\, Dorpsstraat 386\, Assendelft\, 1566 BR\, Assende
 lft\, Nederland
X-APPLE-STRUCTURED-LOCATION;VALUE=URI;X-ADDRESS=Dorpsstraat 386\, Assendelf
 t\, 1566 BR\, Assendelft\, Nederland;X-APPLE-RADIUS=100;X-TITLE=Buurtcentr
 um A3:geo:0,0
END:VEVENT
BEGIN:VTIMEZONE
TZID:Europe/Amsterdam
X-LIC-LOCATION:Europe/Amsterdam
BEGIN:STANDARD
DTSTART:20241027T020000
TZOFFSETFROM:+0200
TZOFFSETTO:+0100
TZNAME:CET
END:STANDARD
END:VTIMEZONE
END:VCALENDAR