BEGIN:VCALENDAR
VERSION:2.0
PRODID:-//wp-events-plugin.com//7.2.3.1//EN
TZID:Europe/Amsterdam
X-WR-TIMEZONE:Europe/Amsterdam
BEGIN:VEVENT
UID:36106@agenda-zaanstreek.nl
DTSTART;TZID=Europe/Amsterdam:20241213T130000
DTEND;TZID=Europe/Amsterdam:20241213T130000
DTSTAMP:20241204T162538Z
URL:https://agenda-zaanstreek.nl/events/jong-zijn-in-wormerveer-1950-t-m-h
 eden/
SUMMARY:‘Jong Zijn In Wormerveer’\, 1950 t/m heden
DESCRIPTION:\n&nbsp\;\n\n\n\n&nbsp\;\nDiscussieprogramma in de Wormerveerse
  Vermaning\, Zaanweg 57\, Wormerveer met filmbeelden van Toen &amp\; Nu\; 
 GRATIS ENTREE\n\n\n&nbsp\;\nEen middag over ‘Jong zijn in Wormerveer’ 
 vanaf 1950 t/m heden.\nEr zal een korte presentatie zijn en een mini-docum
 entaire worden vertoond over De Jeugd Toen En Nu.\nAan de mini-documentair
 e is meegewerkt door tal van prominente buurtbewoners\, die graag hun verh
 aal over ‘vroeger’ aan ons vertelden! Met verhalen uit de Molukse geme
 enschap\, het bloeiende verenigingsleven tot aan ‘uitgaan’.De aanleidi
 ng is het gesprek over jongeren in het Wormerveer van NU. Wat is nodig om 
 meer mooie plekken en activiteiten voor jongeren van de grond te krijgen?\
 n\nHet initiatief komt voort uit een samenwerking tussen het wijkmanagemen
 t van Wormerveer en de Historische Vereniging Wormerveer\n\nDe bijeenkomst
  wordt begeleid door Eelco Koolhaas\, relatiemanager stad van de gemeente 
 Zaanstad.\n\nMeld u voor 9 december aan door een e-mail te sturen naar: vo
 orzitter@wormerveerheeftmeer.nl\nWe kijken ernaar uit om samen met u de ge
 schiedenis van jong zijn - vroeger en nu – in onze buurt te ontdekken!\n
 \nEIGEN FOTO’S &amp\; FILMPJES?!\nHeeft u ook fantastische beelden\, fot
 o’s &amp\; filmpjes over jong zijn in Wormerveer\, neem ze alsjeblieft m
 ee\, dan verwerken we die in een uitgebreidere versie van de documentaire.
  Bij voorbaat heel erg bedankt!\n\n\n
LOCATION:Wormerveerse Vermaning\, Zaanweg 57\, Wormerveer\, 1521 DM\, Neder
 land
X-APPLE-STRUCTURED-LOCATION;VALUE=URI;X-ADDRESS=Zaanweg 57\, Wormerveer\, 1
 521 DM\, Nederland;X-APPLE-RADIUS=100;X-TITLE=Wormerveerse Vermaning:geo:0
 ,0
END:VEVENT
BEGIN:VTIMEZONE
TZID:Europe/Amsterdam
X-LIC-LOCATION:Europe/Amsterdam
BEGIN:STANDARD
DTSTART:20241027T020000
TZOFFSETFROM:+0200
TZOFFSETTO:+0100
TZNAME:CET
END:STANDARD
END:VTIMEZONE
END:VCALENDAR