BEGIN:VCALENDAR
VERSION:2.0
PRODID:-//wp-events-plugin.com//7.2.3.1//EN
TZID:Europe/Amsterdam
X-WR-TIMEZONE:Europe/Amsterdam
BEGIN:VEVENT
UID:35460@agenda-zaanstreek.nl
DTSTART;TZID=Europe/Amsterdam:20241124T110000
DTEND;TZID=Europe/Amsterdam:20241124T110000
DTSTAMP:20241024T123831Z
URL:https://agenda-zaanstreek.nl/events/jeugdtheater-waar-is-pietje-nu/
SUMMARY:Jeugdtheater - Waar is Pietje nu?
DESCRIPTION:\n&nbsp\;\n\n\nJeugdtheater in de Wormerveerse Vermaning\, Zaan
 weg 57\, Wormerveer\n\n\nJeugdtheater voor 2 tot en met 6 jaar.\nHet kanar
 iepietje van Piet is zoek. Het vogeltje is gevlogen. Dus wordt het hele Pi
 etenhuis op z'n kop gezet en blijken er heel wat vreemde vogels rond te vl
 iegen. Maar Pietje\, nee... Of zou Sinterklaas er iets meer van weten.\n\n
 Zeer geschikt voor die spannende periode tussen de landelijke intocht van 
 de goedheiligman en pakjesavond.\nEen intieme poppenvoorstelling met veel 
 muziek en interactie.\nUitvoerenden: Marieloes Koopman en Wim Dam\n\nTicke
 ts kinderen € 5\,00\nTickets volwassenen € 10\,00\n\nZaal open: 10.30 
 uur\n
CATEGORIES:Jeugd,Theater
LOCATION:Wormerveerse Vermaning\, Zaanweg 57\, Wormerveer\, 1521 DM\, Neder
 land
X-APPLE-STRUCTURED-LOCATION;VALUE=URI;X-ADDRESS=Zaanweg 57\, Wormerveer\, 1
 521 DM\, Nederland;X-APPLE-RADIUS=100;X-TITLE=Wormerveerse Vermaning:geo:0
 ,0
END:VEVENT
BEGIN:VTIMEZONE
TZID:Europe/Amsterdam
X-LIC-LOCATION:Europe/Amsterdam
BEGIN:STANDARD
DTSTART:20241027T020000
TZOFFSETFROM:+0200
TZOFFSETTO:+0100
TZNAME:CET
END:STANDARD
END:VTIMEZONE
END:VCALENDAR