BEGIN:VCALENDAR
VERSION:2.0
PRODID:-//wp-events-plugin.com//7.2.3.1//EN
TZID:Europe/Amsterdam
X-WR-TIMEZONE:Europe/Amsterdam
BEGIN:VEVENT
UID:40248@agenda-zaanstreek.nl
DTSTART;TZID=Europe/Amsterdam:20251019T110000
DTEND;TZID=Europe/Amsterdam:20251019T160000
DTSTAMP:20250923T100504Z
URL:https://agenda-zaanstreek.nl/events/jeugdactiviteit-amathysta-de-wonde
 rlijke-wereld-van-de-mineralen/
SUMMARY:Jeugdactiviteit Amathysta: De Wonderlijke Wereld van de Mineralen
DESCRIPTION:Zondag 19 oktober houdt Amathysta weer een kinderactiviteit\, d
 it keer niet meer bij het Zaans Natuur en Milieu Centrum\, maar bij de kan
 overeniging de Geuzen in Zaandam.\n\nWe gaan op zoek naar bijzondere krist
 allen in de wonderlijke wereld van mineralen!\n\nDeze kristallen moet je z
 elf zoeken\, schoonmaken en na afloop mogen ze mee naar huis.\n\nDe kleuri
 ge kristallen komen uit verschillende landen van de wereld\; b.v. Mexico\,
  Brazilië\, Madagaskar\, India\, Marokko en Peru. Er staan microscopen op
 gesteld om je kristallen te bewonderen en is er een kleine expositie van b
 ijzondere mineralen. Ook zijn er mineralen en fossielen van de werkgroep G
 eologie Amathysta te koop.\n\nDe toegang is gratis en deelname aan de acti
 viteit kan vanaf €5\,-. Aan de bar is koffie\, thee en fris verkrijgbaar
  tegen een kleine vergoeding.\n\nWanneer: 19 oktober van 11:00 tot 16:00\n
 \nLocatie: Kanovereniging De Geuzen.&nbsp\;&nbsp\;\n\nGeuzenpad 1\n1504 NZ
  Zaandam\n\n&nbsp\;
CATEGORIES:Jeugd
LOCATION:Kanovereniging De Geuzen\, Geuzenpad 1\, Zaandam\, 1504 NZ\, Neder
 land
X-APPLE-STRUCTURED-LOCATION;VALUE=URI;X-ADDRESS=Geuzenpad 1\, Zaandam\, 150
 4 NZ\, Nederland;X-APPLE-RADIUS=100;X-TITLE=Kanovereniging De Geuzen:geo:0
 ,0
END:VEVENT
BEGIN:VTIMEZONE
TZID:Europe/Amsterdam
X-LIC-LOCATION:Europe/Amsterdam
BEGIN:DAYLIGHT
DTSTART:20250330T030000
TZOFFSETFROM:+0100
TZOFFSETTO:+0200
TZNAME:CEST
END:DAYLIGHT
END:VTIMEZONE
END:VCALENDAR