BEGIN:VCALENDAR
VERSION:2.0
PRODID:-//wp-events-plugin.com//7.2.3.1//EN
TZID:Europe/Amsterdam
X-WR-TIMEZONE:Europe/Amsterdam
BEGIN:VEVENT
UID:37115@agenda-zaanstreek.nl
DTSTART;TZID=Europe/Amsterdam:20250201T193000
DTEND;TZID=Europe/Amsterdam:20250201T193000
DTSTAMP:20250130T135311Z
URL:https://agenda-zaanstreek.nl/events/jeroen-booy-rockschool/
SUMMARY:Jeroen Booy Rockschool
DESCRIPTION:\n\n\n\n\n\n\n\n\n\n 	\n\nzaterdag\, feb 01\, 2025Open: 19:00Aa
 nvang: 19:30Prijs: €5\,-\n\n\n\n\n\n‘Een muzikant moet spelen’\, zeg
 t Jeroen gezeten in zijn studio in Wormerveer. ‘Ik heb een hoop mooie di
 ngen mogen meemaken. Ook minder mooie. Maar ik ben voor beide dankbaar. Th
 e Scene heb ik altijd als familie beschouwt. Die tijd zal ik altijd met me
  meedragen. In mijn ouderlijk huis in Krommenie werd ik ooit gegrepen door
  de gitaar van mijn moeder en die passie is nooit meer over gegaan. Het ge
 voel dat ik zelf iets kon creëren heeft voor mij alles veranderd en mij e
 en doel gegeven. Ik ben gestart met de ‘Jeroen Booy Rockschool’ mede o
 m die passie door te geven. Ik heb mijn eigen opnamestudio\, rij artiesten
  door het land\, ben de jamsessies opnieuw gestart\, begeleid jonge talent
 en en heb mijn eigen PA-verhuurbedrijf. De muziek is en blijft mijn drijfv
 eer. Het voelt goed het stokje door te kunnen geven aan anderen. Je bent n
 ooit te oud om samen op het podium te staan en het gevoel van muziek maken
  te ervaren. Daar draait het om. Als je ergens in gelooft dan bereik je he
 t ook.’\n\n\n\n\n\n\n
CATEGORIES:Muziek
LOCATION:De Groote Weiver\, Industrieweg 1a\, Wormerveer\, 1521 NA\, Wormer
 veer\, Nederland
X-APPLE-STRUCTURED-LOCATION;VALUE=URI;X-ADDRESS=Industrieweg 1a\, Wormervee
 r\, 1521 NA\, Wormerveer\, Nederland;X-APPLE-RADIUS=100;X-TITLE=De Groote 
 Weiver:geo:0,0
END:VEVENT
BEGIN:VTIMEZONE
TZID:Europe/Amsterdam
X-LIC-LOCATION:Europe/Amsterdam
BEGIN:STANDARD
DTSTART:20241027T020000
TZOFFSETFROM:+0200
TZOFFSETTO:+0100
TZNAME:CET
END:STANDARD
END:VTIMEZONE
END:VCALENDAR