BEGIN:VCALENDAR
VERSION:2.0
PRODID:-//wp-events-plugin.com//7.2.3.1//EN
TZID:Europe/Amsterdam
X-WR-TIMEZONE:Europe/Amsterdam
BEGIN:VEVENT
UID:32626@agenda-zaanstreek.nl
DTSTART;TZID=Europe/Amsterdam:20241103T160000
DTEND;TZID=Europe/Amsterdam:20241103T160000
DTSTAMP:20240507T150744Z
URL:https://agenda-zaanstreek.nl/events/jazz-inverdan-arifa/
SUMMARY:Jazz Inverdan | Arifa
DESCRIPTION:Zondag 3 november 2024\, 16.00 uur (entree € 18\,00):&nbsp\;A
 rifa\n\nSinds het vorige album van Arifa (Secret Poetry) is de bezetting f
 link gewijzigd. Klarinettist Alex Simu is verdwenen en met basklarinettist
  en duduk-speler Ghaeth Almaghoot &nbsp\;(Syrië) en cellist Bence Huszar 
 (Hongarije) is de groep weer een internationaal bezet kwartet. Daarmee wer
 d vorig jaar een nieuwe cd uitgebracht:&nbsp\;Danubian Voyage. De titel ve
 rwijst naar de rivier de Donau\, de waterweg die Midden- en Oost-Europa me
 t elkaar verbindt. Een mooie metafoor voor de muziek van de groep\, die im
 mers westerse (jazz-)improvisatie met volksmuziek uit het oosten verbindt.
  Prominent in het nieuwe groepsgeluid is de duduk\, het melancholiek klink
 ende dubbelrietinstrument uit Armenië. Veel van de stukken (van de hand v
 an pianist Franz von Chossy en bandleider Sjahin During) zitten vol met te
 mpo- en maatwisselingen die voor voortdurende spanning zorgen. Ritmisch é
 n melodisch bouwt Arifa zo voort aan een inmiddels indrukwekkende discogra
 fie\, aangevuurd door de percussie van During\, die opzwepend\, maar ook k
 leurend werkt. In 2021 stond de groep op het North Sea Jazz Festival\, zoa
 ls&nbsp\;hier&nbsp\;is te zien.\n\n&nbsp\;\n\n\n\nArifa
CATEGORIES:Muziek
LOCATION:Doopsgezinde Vermaning Zaandam\, Westzijde 80\, Zaandam\, 1506 EG\
 , Nederland
X-APPLE-STRUCTURED-LOCATION;VALUE=URI;X-ADDRESS=Westzijde 80\, Zaandam\, 15
 06 EG\, Nederland;X-APPLE-RADIUS=100;X-TITLE=Doopsgezinde Vermaning Zaanda
 m:geo:0,0
END:VEVENT
BEGIN:VTIMEZONE
TZID:Europe/Amsterdam
X-LIC-LOCATION:Europe/Amsterdam
BEGIN:STANDARD
DTSTART:20241027T020000
TZOFFSETFROM:+0200
TZOFFSETTO:+0100
TZNAME:CET
END:STANDARD
END:VTIMEZONE
END:VCALENDAR