BEGIN:VCALENDAR
VERSION:2.0
PRODID:-//wp-events-plugin.com//7.2.3.1//EN
TZID:Europe/Amsterdam
X-WR-TIMEZONE:Europe/Amsterdam
BEGIN:VEVENT
UID:36506@agenda-zaanstreek.nl
DTSTART;TZID=Europe/Amsterdam:20250330T150000
DTEND;TZID=Europe/Amsterdam:20250330T150000
DTSTAMP:20241219T111647Z
URL:https://agenda-zaanstreek.nl/events/jazz-connection-jives-you-crazy/
SUMMARY:Jazz Connection "Jives you crazy!!"
DESCRIPTION:\n&nbsp\;\n\n\nIn samenwerking met de Zaanse Jazzclub weer een 
 concert in de serie Bakermat-Jazz.\n\n\nJazz Connection is een groot navol
 ger van de Jump Jive\, Jump Blues en early Rhythm ’n Blues\, die zo’n 
 50 jaar geleden in de VS enorm populair werd. Met songs van Louis Prima\, 
 Wynonie Harris\, King Curtis en Teddy Brannon brengen ze een ‘revival’
  van de beste en meest spraakmakende sterren uit deze woelig periode in de
  jazz.\nSamen met een flinke dosis humor zorgt het collectief van Jazz Con
 nection voor een opmerkelijk eigen geluid: transparant\, geraffineerd\, ca
 tchy &amp\; groovy. Of het nu een swingende jive\, dampende boogie of mees
 lepende blues is\, je herkent direct de sound van dit unieke sextet.\nZe t
 oerden door Europa en o.a. het Midden-Oosten\, Afrika en Azië – en nu i
 n Wormerveer!\n“Absolutely amazing live on stage. They will Jive You Cra
 zy!”\nLine-up:\nJurgen Feskens – Trompet &amp\; Zang\nPeter van Steen 
 – Trombone\nRob Henneveld – Tenor- &amp\; alt saxofoon\, Klarinet\nBar
 t Wouters – Contrabas &amp\; Zang\nBart Maassen – Piano\nRobbert van K
 almthout – Drums\n\nZaal open: 14.30 uur\n
CATEGORIES:Jazz,Muziek
LOCATION:Wormerveerse Vermaning\, Zaanweg 57\, Wormerveer\, 1521 DM\, Neder
 land
X-APPLE-STRUCTURED-LOCATION;VALUE=URI;X-ADDRESS=Zaanweg 57\, Wormerveer\, 1
 521 DM\, Nederland;X-APPLE-RADIUS=100;X-TITLE=Wormerveerse Vermaning:geo:0
 ,0
END:VEVENT
BEGIN:VTIMEZONE
TZID:Europe/Amsterdam
X-LIC-LOCATION:Europe/Amsterdam
BEGIN:DAYLIGHT
DTSTART:20250330T030000
TZOFFSETFROM:+0100
TZOFFSETTO:+0200
TZNAME:CEST
END:DAYLIGHT
END:VTIMEZONE
END:VCALENDAR