BEGIN:VCALENDAR
VERSION:2.0
PRODID:-//wp-events-plugin.com//7.2.3.1//EN
TZID:Europe/Amsterdam
X-WR-TIMEZONE:Europe/Amsterdam
BEGIN:VEVENT
UID:35939@agenda-zaanstreek.nl
DTSTART;TZID=Europe/Amsterdam:20241213T160000
DTEND;TZID=Europe/Amsterdam:20241215T230000
DTSTAMP:20241121T152358Z
URL:https://agenda-zaanstreek.nl/events/japan-light-festival-2024/
SUMMARY:Japan Light Festival 2024
DESCRIPTION:\n\n\n\n\nLichtfestival in Zaandam · Evenement\n\n\n\n\n\n\n\n
 \n\n\n\nHet Japan Light Festival vindt dit jaar in Zaandam plaats\, vlakbi
 j Amsterdam. Het driedaagse festival staat helemaal in het teken van licht
  en food in Japanse sferen.\nVan alles te doen op Japan Light Festival\nEr
  is silent disco\, karaoke\, LED kunstwerken\, kraampjes (met verse sushi)
 \, ramen en Japanse thee en natuurlijk de verlichte kersenbloesems: het fe
 stival belooft wederom een groot (licht)spektakel te worden.\n\n\n\nPrakti
 sche info\n\n 	Wanneer13 dec 2024&nbsp\;-&nbsp\;15 dec 2024\n\n\n\n
CATEGORIES:Evenement
LOCATION:Taets Art and Event Park | Hembrugterrein\, Hemkade 18\, Zaandam\,
  1506 PR\, Nederland
X-APPLE-STRUCTURED-LOCATION;VALUE=URI;X-ADDRESS=Hemkade 18\, Zaandam\, 1506
  PR\, Nederland;X-APPLE-RADIUS=100;X-TITLE=Taets Art and Event Park | Hemb
 rugterrein:geo:0,0
END:VEVENT
BEGIN:VTIMEZONE
TZID:Europe/Amsterdam
X-LIC-LOCATION:Europe/Amsterdam
BEGIN:STANDARD
DTSTART:20241027T020000
TZOFFSETFROM:+0200
TZOFFSETTO:+0100
TZNAME:CET
END:STANDARD
END:VTIMEZONE
END:VCALENDAR