BEGIN:VCALENDAR
VERSION:2.0
PRODID:-//wp-events-plugin.com//7.2.3.1//EN
TZID:Europe/Amsterdam
X-WR-TIMEZONE:Europe/Amsterdam
BEGIN:VEVENT
UID:36098@agenda-zaanstreek.nl
DTSTART;TZID=Europe/Amsterdam:20250131T200000
DTEND;TZID=Europe/Amsterdam:20250131T200000
DTSTAMP:20241128T134251Z
URL:https://agenda-zaanstreek.nl/events/jandino-therapie/
SUMMARY:Jandino - Therapie
DESCRIPTION:&nbsp\;\n\nDe immens populaire stand-upcomedian vraagt zich af 
 of de wereld nu met de dag gekker wordt\, of dat dit aan hem ligt. Of hebb
 en we allemaal therapie nodig? En voor welke therapie moet je dan eigenlij
 k kiezen? Er is tegenwoordig voor alles therapie: sekstherapie\, psychoana
 lytische psychotherapie…\n\n\n\n\n\nWat is dat eigenlijk? En dan heb je 
 ook nog gedragstherapie\, systeemtherapie\, ervaringsgerichte therapie\, r
 elatie- en gezinstherapie. Misschien moeten we gewoon beginnen met lachthe
 rapie. Want het maakt niet uit welke uitdagingen jij op dit moment hebt\, 
 lachen is altijd het beste medicijn.\n\nAan het einde van deze show zal je
  over jezelf zeggen: “misschien ben ik zo gek nog niet\, maar de rest va
 n de wereld…? Hmm\, die spoort echt niet\, maar dan ook echt niet! Of we
 l...?”\n\n\n\n
CATEGORIES:Cabaret
LOCATION:Zaantheater\, Nicolaasstraat 3\, Zaandam\, 1506 BB\, Nederland
X-APPLE-STRUCTURED-LOCATION;VALUE=URI;X-ADDRESS=Nicolaasstraat 3\, Zaandam\
 , 1506 BB\, Nederland;X-APPLE-RADIUS=100;X-TITLE=Zaantheater:geo:0,0
END:VEVENT
BEGIN:VTIMEZONE
TZID:Europe/Amsterdam
X-LIC-LOCATION:Europe/Amsterdam
BEGIN:STANDARD
DTSTART:20241027T020000
TZOFFSETFROM:+0200
TZOFFSETTO:+0100
TZNAME:CET
END:STANDARD
END:VTIMEZONE
END:VCALENDAR