BEGIN:VCALENDAR
VERSION:2.0
PRODID:-//wp-events-plugin.com//7.2.3.1//EN
TZID:Europe/Amsterdam
X-WR-TIMEZONE:Europe/Amsterdam
BEGIN:VEVENT
UID:37318@agenda-zaanstreek.nl
DTSTART;TZID=Europe/Amsterdam:20250222T130000
DTEND;TZID=Europe/Amsterdam:20250223T173000
DTSTAMP:20250213T084527Z
URL:https://agenda-zaanstreek.nl/events/jan-scarpa-presenteert-de-roman-in
 -het-pak-genaaid-en-toont-een-overzicht-van-beeldend-werk-tekeningen-schil
 derijen-objecten-en-ontwerpen/
SUMMARY:Jan Scarpa presenteert de roman ‘In het pak genaaid’ en toont e
 en overzicht van beeldend werk: tekeningen – schilderijen – objecten e
 n ontwerpen
DESCRIPTION:‘In het pak genaaid\,’ is een roman gebaseerd op het leven 
 van Herman Willem (Toffie) Hofland (Wormerveer 28-10-1919 / Anguilla 13-09
 -2006). Toffie Hofland was een bekende Zaankanter. Waterpoloër\, postzege
 lhandelaar\, jazz-violist\, verzetsstrijder en grutter op de Nederlandse A
 ntillen.\n\nZoals de biografen van J.D. Salinger\, David Shields en Shane 
 Salerno stelden:\n\n‘Er waren twee bepalende markatiepunten in Salingers
  leven: de Tweede Wereldoorlog vernietigde de mens in hem maar maakte hem 
 tot een groot kunstenaar. Geloof bood hem de troost die hij als mens nodig
  had\, maar vermoordde zijn kunst”\n\nDat gold in zekere mate ook voor T
 offie Hofland. De tweede wereldoorlog verminkte de mens in hem. Ambitie en
  geldingsdrang maakte hem tot een succesvol ondernemer. Blind vertrouwen v
 erwoestte alles.\n\nDe presentatie van het boek\, genummerd en gesigneerd 
 in een kleine oplage\, is op zaterdag 22 februari om 14:30 uur.\n\nDe tent
 oonstelling is zowel op zaterdag als op zondag van 13:00 -17:30 uur te zie
 n.
CATEGORIES:Expositie,Lezing
LOCATION:Het Weefhuis\, Lagedijk 39\, Zaandijk\, 1544 BB\, Nederland
X-APPLE-STRUCTURED-LOCATION;VALUE=URI;X-ADDRESS=Lagedijk 39\, Zaandijk\, 15
 44 BB\, Nederland;X-APPLE-RADIUS=100;X-TITLE=Het Weefhuis:geo:0,0
END:VEVENT
BEGIN:VTIMEZONE
TZID:Europe/Amsterdam
X-LIC-LOCATION:Europe/Amsterdam
BEGIN:STANDARD
DTSTART:20241027T020000
TZOFFSETFROM:+0200
TZOFFSETTO:+0100
TZNAME:CET
END:STANDARD
END:VTIMEZONE
END:VCALENDAR