BEGIN:VCALENDAR
VERSION:2.0
PRODID:-//wp-events-plugin.com//7.2.3.1//EN
TZID:Europe/Amsterdam
X-WR-TIMEZONE:Europe/Amsterdam
BEGIN:VEVENT
UID:37872@agenda-zaanstreek.nl
DTSTART;TZID=Europe/Amsterdam:20250326T203000
DTEND;TZID=Europe/Amsterdam:20250326T230000
DTSTAMP:20250320T113249Z
URL:https://agenda-zaanstreek.nl/events/jamsessions-in-cafe-sman/
SUMMARY:Jamsessions in café Sman
DESCRIPTION:Onze jamsessions worden gehouden in café Sman\, Zaanweg 2\, Wo
 rmerveer. Van 20.30 - 23.00 uur.\nCafé Sman regelt vaak een speciaal menu
  voor muzikanten en bezoekers\, warm aanbevolen!
CATEGORIES:Horeca,Muziek
LOCATION:Café Sman\,  Zaanweg 2\,\, Wormerveer\, 1521 DH\, Nederland
X-APPLE-STRUCTURED-LOCATION;VALUE=URI;X-ADDRESS= Zaanweg 2\,\, Wormerveer\,
  1521 DH\, Nederland;X-APPLE-RADIUS=100;X-TITLE=Café Sman:geo:0,0
END:VEVENT
BEGIN:VTIMEZONE
TZID:Europe/Amsterdam
X-LIC-LOCATION:Europe/Amsterdam
BEGIN:STANDARD
DTSTART:20241027T020000
TZOFFSETFROM:+0200
TZOFFSETTO:+0100
TZNAME:CET
END:STANDARD
END:VTIMEZONE
END:VCALENDAR