BEGIN:VCALENDAR
VERSION:2.0
PRODID:-//wp-events-plugin.com//7.2.3.1//EN
TZID:Europe/Amsterdam
X-WR-TIMEZONE:Europe/Amsterdam
BEGIN:VEVENT
UID:40772@agenda-zaanstreek.nl
DTSTART;TZID=Europe/Amsterdam:20251129T200000
DTEND;TZID=Europe/Amsterdam:20251129T200000
DTSTAMP:20251127T111552Z
URL:https://agenda-zaanstreek.nl/events/jam-sessies-open-podium/
SUMMARY:Jam Sessies (open podium)
DESCRIPTION:\n\n\nIedere laatste zaterdag van de maand live muziek. Jammen 
 en open podium voor muziekliefhebbers\, bands of solisten die muziek wille
 n maken. Van pop tot rock en alles er tussenin. Drumstel aanwezig. Gitaris
 ten graag eigen gitaar meenemen.\n\n\n\n\n\n\n\nTijd: 20:00 tot 23:00\n\n\
 n\n
CATEGORIES:Muziek
LOCATION:Buurtcentrum De Zeskanter\, Nieuwendamstraat 2 C\, Zaandam\, 1507 
 JE\, Nederland
X-APPLE-STRUCTURED-LOCATION;VALUE=URI;X-ADDRESS=Nieuwendamstraat 2 C\, Zaan
 dam\, 1507 JE\, Nederland;X-APPLE-RADIUS=100;X-TITLE=Buurtcentrum De Zeska
 nter:geo:0,0
END:VEVENT
BEGIN:VTIMEZONE
TZID:Europe/Amsterdam
X-LIC-LOCATION:Europe/Amsterdam
BEGIN:STANDARD
DTSTART:20251026T020000
TZOFFSETFROM:+0200
TZOFFSETTO:+0100
TZNAME:CET
END:STANDARD
END:VTIMEZONE
END:VCALENDAR