BEGIN:VCALENDAR
VERSION:2.0
PRODID:-//wp-events-plugin.com//7.2.3.1//EN
TZID:Europe/Amsterdam
X-WR-TIMEZONE:Europe/Amsterdam
BEGIN:VEVENT
UID:39627@agenda-zaanstreek.nl
DTSTART;TZID=Europe/Amsterdam:20250906T100000
DTEND;TZID=Europe/Amsterdam:20250907T170000
DTSTAMP:20250717T094059Z
URL:https://agenda-zaanstreek.nl/events/jaarexpositie-schilderskring-zaans
 treek-noord/
SUMMARY:Jaarexpositie Schilderskring Zaanstreek Noord
DESCRIPTION:\n\nJaarexpositie Schilderskring Zaanstreek Noord\n\n6 sep 2025
  - 7 sep 2025&nbsp\;\n10:00 - 17:00 uur\n\nExpositie\n\n\nDe Schilderskrin
 g Zaanstreek Noord is een kleine groep van enthousiaste amateurschilders d
 ie wekelijks bijeenkomen. Het leuke van deze groep mensen is dat ze zo ver
 schillend zijn en dus ook een heel divers palet laten zien. Ze laten zich 
 inspireren door de oude meesters\, bezoekjes aan musea\, lezen van kunstbo
 eken\, de natuur\, of geschikte afbeeldingen op [...]\nLees meer\n
CATEGORIES:Expositie
LOCATION:Het Weefhuis\, Lagedijk 39\, Zaandijk\, 1544 BB\, Nederland
X-APPLE-STRUCTURED-LOCATION;VALUE=URI;X-ADDRESS=Lagedijk 39\, Zaandijk\, 15
 44 BB\, Nederland;X-APPLE-RADIUS=100;X-TITLE=Het Weefhuis:geo:0,0
END:VEVENT
BEGIN:VTIMEZONE
TZID:Europe/Amsterdam
X-LIC-LOCATION:Europe/Amsterdam
BEGIN:DAYLIGHT
DTSTART:20250330T030000
TZOFFSETFROM:+0100
TZOFFSETTO:+0200
TZNAME:CEST
END:DAYLIGHT
END:VTIMEZONE
END:VCALENDAR