BEGIN:VCALENDAR
VERSION:2.0
PRODID:-//wp-events-plugin.com//7.2.3.1//EN
TZID:Europe/Amsterdam
X-WR-TIMEZONE:Europe/Amsterdam
BEGIN:VEVENT
UID:35629@agenda-zaanstreek.nl
DTSTART;TZID=Europe/Amsterdam:20241210T193000
DTEND;TZID=Europe/Amsterdam:20241210T213000
DTSTAMP:20241106T101956Z
URL:https://agenda-zaanstreek.nl/events/jaap-schipperlezing-2024-stad-zond
 er-sloop/
SUMMARY:Jaap Schipperlezing 2024: Stad zonder sloop
DESCRIPTION:\n\nOp dinsdagavond 10 december organiseert Babel de jaarlijkse
  Jaap Schipperlezing in Cultureel Centrum Bullekerk. Met deze lezing wil B
 abel op inspirerende wijze aanzetten tot discussie over de toekomst van de
  gebouwde omgeving\, met als centraal thema de (her)waardering van bestaan
 de bouwwerken en hun betekenis voor de toekomst.\n\nWillen we meer wonen\,
  dan moeten we minder bouwen. Onze huidige cyclus van sloop en vernieuwing
  past niet meer in deze tijd. Juist bij sloop en nieuwbouw gaat veel CO₂
  verloren. Beter bouwen we minder\, maar groener. Een sloopverbod vraagt o
 m zorg en creativiteit voor onze gebouwde omgeving en behoudt de energie d
 ie hier reeds in is geïnvesteerd.\n\nSprekers\n\nMarius Grootveld\, archi
 tect en docent aan de TU Gent en TU Delft\, is een expert op het gebied va
 n hergebruik van bestaande gebouwen. Hij is auteur van het boek Rotterdam 
 Ripresa en zal spreken over de rol van behoud in moderne gebiedsontwikkeli
 ng. Columnist Eva Hoeke werpt een scherpe blik op de maatschappelijke aspe
 cten van behoud en sloop. Architect Floris Cornelisse\, partner bij Happel
  Cornelisse Verhoeven architecten\, zal ingaan op de cultuurhistorische la
 gen van steden en gebouwen\; zijn werk richt zich op het grensvlak van oud
  en nieuw. Het programma wordt ingeleid door Leontine de Koning\, voorzitt
 er van de Programmaraad van Babel.\n\nPraktische informatie\n\nDe Jaap Sch
 ipperlezing vindt plaats op dinsdagavond 10 december in Cultureel Centrum 
 Bullekerk\, Westzijde 75\, Zaandam. De inloop begint om 19:00 uur met koff
 ie/thee\, het programma start om 19:30 uur en eindigt om 21:30 uur\, gevol
 gd door een borrel. Deelname is gratis.\n\nDe locatie is goed bereikbaar m
 et het openbaar vervoer en ligt op circa 15 minuten lopen van station Zaan
 dam. Er zijn diverse parkeermogelijkheden in de omgeving.\n\nDeelname is g
 ratis. Meld je hier aan.
CATEGORIES:Sociaal,Theatercolleges &amp; Salons
LOCATION:Cultureel Centrum Bullekerk (Westzijderkerk)\, Westzijde 75\, Zaan
 dam\, 1506 ED\, Nederland
X-APPLE-STRUCTURED-LOCATION;VALUE=URI;X-ADDRESS=Westzijde 75\, Zaandam\, 15
 06 ED\, Nederland;X-APPLE-RADIUS=100;X-TITLE=Cultureel Centrum Bullekerk (
 Westzijderkerk):geo:0,0
END:VEVENT
BEGIN:VTIMEZONE
TZID:Europe/Amsterdam
X-LIC-LOCATION:Europe/Amsterdam
BEGIN:STANDARD
DTSTART:20241027T020000
TZOFFSETFROM:+0200
TZOFFSETTO:+0100
TZNAME:CET
END:STANDARD
END:VTIMEZONE
END:VCALENDAR