BEGIN:VCALENDAR
VERSION:2.0
PRODID:-//wp-events-plugin.com//7.2.3.1//EN
TZID:Europe/Amsterdam
X-WR-TIMEZONE:Europe/Amsterdam
BEGIN:VEVENT
UID:40677@agenda-zaanstreek.nl
DTSTART;TZID=Europe/Amsterdam:20251130T140000
DTEND;TZID=Europe/Amsterdam:20251130T160000
DTSTAMP:20251120T090302Z
URL:https://agenda-zaanstreek.nl/events/ishaniyas-entertainment-organiseer
 t-sinterklaasfeest-voor-minima-gezinnen/
SUMMARY:Ishaniya’s Entertainment organiseert Sinterklaasfeest voor minima
 -gezinnen
DESCRIPTION:Het is leuk dat Sinterklaas weer in het land is en de kinderen 
 rekenen op goed gevulde schoentjes en cadeaus op 5 december. Maar er zijn 
 ook ouders/verzorgers die de eindjes aan elkaar moeten knopen om de koelka
 st te vullen en de energierekening te betalen.\n\n\nOok voor kinderen uit 
 gezinnen die het niet breed hebben is er een Sinterklaasfeest.&nbsp\;(Foto
 : Adobe)\n\n\nDat is het goed te weten dat er mensen als Sunita Ramlal\, e
 igenaresse van Ishaniya’s Entertainment\, rondlopen. Dit jaar organiseer
 t zij\, samen met een groep enthousiaste vrijwilligers\, een Sinterklaasfe
 est voor kinderen uit minima-gezinnen.\n\nHet feest vindt plaats op zaterd
 ag 30 november van 14.00 tot 16.00 uur in Wormerveer. De locatie blijft op
  verzoek van de verhuurder buiten de publicatie om te voorkomen dat er te 
 veel aanvragen of boekingsverzoeken binnenkomen. Het Sinterklaasfeest is b
 edoeld voor kinderen van vier tot acht jaar\, met deelname van maximaal tw
 ee kinderen per gezin. Het initiatief wordt volledig gedragen door vrijwil
 ligers en heeft een niet-commercieel karakter.\n\n
CATEGORIES:Jeugd
LOCATION:Wormerveer Zaanbocht\, -\, Wormerveer\, Wormerveer\, Nederland
X-APPLE-STRUCTURED-LOCATION;VALUE=URI;X-ADDRESS=-\, Wormerveer\, Wormerveer
 \, Nederland;X-APPLE-RADIUS=100;X-TITLE=Wormerveer Zaanbocht:geo:0,0
END:VEVENT
BEGIN:VTIMEZONE
TZID:Europe/Amsterdam
X-LIC-LOCATION:Europe/Amsterdam
BEGIN:STANDARD
DTSTART:20251026T020000
TZOFFSETFROM:+0200
TZOFFSETTO:+0100
TZNAME:CET
END:STANDARD
END:VTIMEZONE
END:VCALENDAR