BEGIN:VCALENDAR
VERSION:2.0
PRODID:-//wp-events-plugin.com//7.2.3.1//EN
TZID:Europe/Amsterdam
X-WR-TIMEZONE:Europe/Amsterdam
BEGIN:VEVENT
UID:36887@agenda-zaanstreek.nl
DTSTART;TZID=Europe/Amsterdam:20250315T210000
DTEND;TZID=Europe/Amsterdam:20250315T210000
DTSTAMP:20250120T205755Z
URL:https://agenda-zaanstreek.nl/events/iron-maiden-undercover-in-de-boven
 kruier/
SUMMARY:Iron Maiden Undercover in De Bovenkruier
DESCRIPTION:Iron Maiden Undercover in De Bovenkruier – Mis het niet!\nWat
  een geweldige sfeer gisteren bij Down Jones! En op 15 maart gaan we verde
 r met nóg een topavond: Iron Maiden Undercover treedt op in De Bovenkruie
 r.\nMet gitaristen David Aferiat en Daniel Raposo – bekend van The Metal
 licas – in de line-up weet je dat het muzikaal helemaal goed zit. Dit ni
 euwe project brengt de energie en de grootste hits van Iron Maiden tot lev
 en. Een show die je absoluut niet wilt missen!\n&nbsp\;Kaarten: €10&nbsp
 \;Deuren open: 19.30 uur&nbsp\;Concert start: 21.00 uur&nbsp\;Adres: Driel
 se Wetering 49\, Zaandam\nHet team van De Boov staat zoals altijd klaar om
  het podium perfect op te bouwen en om je achter de bar van een drankje te
  voorzien. Alles is geregeld voor een onvergetelijke avond. Zorg dat je er
 bij bent!\nTot dan in De Bovenkruier!&nbsp\;
CATEGORIES:Muziek
LOCATION:Buurtcentrum De Bovenkruier\, Drielse Wetering 49\, Zaandam\, 1509
  KP\, Nederland
X-APPLE-STRUCTURED-LOCATION;VALUE=URI;X-ADDRESS=Drielse Wetering 49\, Zaand
 am\, 1509 KP\, Nederland;X-APPLE-RADIUS=100;X-TITLE=Buurtcentrum De Bovenk
 ruier:geo:0,0
END:VEVENT
BEGIN:VTIMEZONE
TZID:Europe/Amsterdam
X-LIC-LOCATION:Europe/Amsterdam
BEGIN:STANDARD
DTSTART:20241027T020000
TZOFFSETFROM:+0200
TZOFFSETTO:+0100
TZNAME:CET
END:STANDARD
END:VTIMEZONE
END:VCALENDAR