BEGIN:VCALENDAR
VERSION:2.0
PRODID:-//wp-events-plugin.com//7.2.3.1//EN
TZID:Europe/Amsterdam
X-WR-TIMEZONE:Europe/Amsterdam
BEGIN:VEVENT
UID:38389@agenda-zaanstreek.nl
DTSTART;TZID=Europe/Amsterdam:20250509T100000
DTEND;TZID=Europe/Amsterdam:20250509T123000
DTSTAMP:20250424T074447Z
URL:https://agenda-zaanstreek.nl/events/interactieve-wandeling-door-het-ce
 ntrumgebied-van-zaandam-hoe-maken-we-de-puzzel-passend/
SUMMARY:Interactieve wandeling door het centrumgebied van Zaandam: hoe make
 n we de puzzel passend?
DESCRIPTION:Het centrumgebied van Zaandam is al ruim 25 jaar in ontwikkelin
 g. Met de grootschalige vernieuwing van het stationsgebied en de Gedempte 
 Gracht zijn belangrijke stappen gezet richting een aantrekkelijker en leef
 baarder stadshart. Maar de puzzel is nog niet compleet. Op verschillende p
 lekken ontbreken nog steeds stukken. Intussen wordt er verder gewerkt aan 
 plannen voor onder andere de Peperstraat en het gebied rond het sluizencom
 plex.\n\nHoe maak je van dit centrum een prettige plek om te wonen\, te ve
 rblijven en te ontmoeten? Tijdens onze thema-avond over neuroarchitectuur 
 op 5 maart kwam deze vraag al aan bod. De boodschap was duidelijk: kijk op
  ooghoogte naar de stad\, gebruik je intuïtie\, en geef aandacht aan de z
 iel van de plek. Zorg voor afwisseling in functies\, gevels en maatvoering
 \, en creëer ruimte voor zowel rust als reuring. De menselijke maat zou a
 ls rode draad door het hele ontwerp- en ontwikkelproces moeten lopen.\n\nO
 mdat er toen onvoldoende tijd was om hier verder over door te praten – z
 eker in relatie tot de plannen voor Zaandam-Oost en het sluizencomplex –
  organiseren we op vrijdag 9 mei een interactieve rondleiding. Samen met d
 eskundigen Edzo Bindels (supervisor Zaandam-Centrum)\, Annette Nicolas Gno
 dde (programmamanager gemeente Zaanstad) en Neelu Boparai (architect) verk
 ennen we het gebied ter plekke.\n\nPraktische informatie\n\nDe rondleiding
  vindt plaats op vrijdag 9 mei 2025\, van 10:00 tot 12:30 uur. We starten 
 bij de Beatrixtoren\, bij de sluis aan de Zaan in Zaandam. Deelname is gra
 tis\, maar er is plek voor maximaal 25 deelnemers. Wil je mee? Meld je dan
  aan via het aanmeldformulier op onze website. Let op: vol = vol\, dus wee
 s er op tijd bij!
CATEGORIES:Excursie
LOCATION:Zaandam\, -\, -\, Nederland
X-APPLE-STRUCTURED-LOCATION;VALUE=URI;X-ADDRESS=-\, -\, Nederland;X-APPLE-R
 ADIUS=100;X-TITLE=Zaandam:geo:0,0
END:VEVENT
BEGIN:VTIMEZONE
TZID:Europe/Amsterdam
X-LIC-LOCATION:Europe/Amsterdam
BEGIN:DAYLIGHT
DTSTART:20250330T030000
TZOFFSETFROM:+0100
TZOFFSETTO:+0200
TZNAME:CEST
END:DAYLIGHT
END:VTIMEZONE
END:VCALENDAR